BEGIN:VCALENDAR
VERSION:2.0
PRODID:-//GoGeomatics - ECPv6.15.20//NONSGML v1.0//EN
CALSCALE:GREGORIAN
METHOD:PUBLISH
X-WR-CALNAME:GoGeomatics
X-ORIGINAL-URL:https://gogeomatics.ca
X-WR-CALDESC:Events for GoGeomatics
REFRESH-INTERVAL;VALUE=DURATION:PT1H
X-Robots-Tag:noindex
X-PUBLISHED-TTL:PT1H
BEGIN:VTIMEZONE
TZID:America/Toronto
BEGIN:DAYLIGHT
TZOFFSETFROM:-0500
TZOFFSETTO:-0400
TZNAME:EDT
DTSTART:20200308T070000
END:DAYLIGHT
BEGIN:STANDARD
TZOFFSETFROM:-0400
TZOFFSETTO:-0500
TZNAME:EST
DTSTART:20201101T060000
END:STANDARD
BEGIN:DAYLIGHT
TZOFFSETFROM:-0500
TZOFFSETTO:-0400
TZNAME:EDT
DTSTART:20210314T070000
END:DAYLIGHT
BEGIN:STANDARD
TZOFFSETFROM:-0400
TZOFFSETTO:-0500
TZNAME:EST
DTSTART:20211107T060000
END:STANDARD
BEGIN:DAYLIGHT
TZOFFSETFROM:-0500
TZOFFSETTO:-0400
TZNAME:EDT
DTSTART:20220313T070000
END:DAYLIGHT
BEGIN:STANDARD
TZOFFSETFROM:-0400
TZOFFSETTO:-0500
TZNAME:EST
DTSTART:20221106T060000
END:STANDARD
END:VTIMEZONE
BEGIN:VEVENT
DTSTART;TZID=America/Toronto:20210407T180000
DTEND;TZID=America/Toronto:20210407T200000
DTSTAMP:20260423T180159
CREATED:20210401T145054Z
LAST-MODIFIED:20250404T120810Z
UID:167974-1617818400-1617825600@gogeomatics.ca
SUMMARY:OS Geo Alberta Chapter Meetup
DESCRIPTION:Details\n\n5.45pm: ONLINE LOBBY\n6.00pm: Introductions\n6.15pm: Any updates or proposals on projects \nFollowing: \nQuick Update: Dr. Ashok Krishnamurthy will provide a quick update on his use of R in statistical analysis of geospatial spread in infectious disease. \nPanel: Coming Into Alberta Geospatial Industry \nOur group is lucky to have a few people who do\, or have done\, hiring for various roles\, including geospatial roles\, in Alberta. They’ve offered to share some of their thoughts and insights: \n– The market – what jobs\, who’s hiring\, what’s the competition?\n– Finding opportunities – Your network/portfolio\, social media\n– Landing the job – Resume / Interview tips\n– The real world – what will the job probably look like\, day to day \nPanelists:\nTanya Yeomans\n– Open Data Specialist\, Geospatial Scientist\nDare Adeyemi\n– GIS and Asset Management Coordinator at Town of Drayton Valley\nStefan Price\n– Geomatics Services Supervisor at Town of Cochrane\nKemi Mebude\n– GIS Analyst II at Town of Beumont \nThis Monthly Chapter event is open to all. Feel free to bring your topics\, projects\, or presentations. \nSome suggestions from the chapter for presentations include:\n– Show us your side hustle\n– Bring us your problems ( stuff you’re working on and issues )\n– teach something new ( OS Geo projects or other ). \nPlease check out the Alberta Chapter WIKI page – https://wiki.osgeo.org/wiki/Alberta_Chapter – to join the mailing list and contribute to the conversation. \nBig thanks to Assembly Coworking Space for providing the venue ( even though we’re all at home right now).
URL:https://gogeomatics.ca/event/os-geo-alberta-chapter-meetup/
END:VEVENT
END:VCALENDAR