BEGIN:VCALENDAR
VERSION:2.0
PRODID:-//GoGeomatics - ECPv6.15.20//NONSGML v1.0//EN
CALSCALE:GREGORIAN
METHOD:PUBLISH
X-ORIGINAL-URL:https://gogeomatics.ca
X-WR-CALDESC:Events for GoGeomatics
REFRESH-INTERVAL;VALUE=DURATION:PT1H
X-Robots-Tag:noindex
X-PUBLISHED-TTL:PT1H
BEGIN:VTIMEZONE
TZID:America/Toronto
BEGIN:DAYLIGHT
TZOFFSETFROM:-0500
TZOFFSETTO:-0400
TZNAME:EDT
DTSTART:20200308T070000
END:DAYLIGHT
BEGIN:STANDARD
TZOFFSETFROM:-0400
TZOFFSETTO:-0500
TZNAME:EST
DTSTART:20201101T060000
END:STANDARD
BEGIN:DAYLIGHT
TZOFFSETFROM:-0500
TZOFFSETTO:-0400
TZNAME:EDT
DTSTART:20210314T070000
END:DAYLIGHT
BEGIN:STANDARD
TZOFFSETFROM:-0400
TZOFFSETTO:-0500
TZNAME:EST
DTSTART:20211107T060000
END:STANDARD
BEGIN:DAYLIGHT
TZOFFSETFROM:-0500
TZOFFSETTO:-0400
TZNAME:EDT
DTSTART:20220313T070000
END:DAYLIGHT
BEGIN:STANDARD
TZOFFSETFROM:-0400
TZOFFSETTO:-0500
TZNAME:EST
DTSTART:20221106T060000
END:STANDARD
END:VTIMEZONE
BEGIN:VEVENT
DTSTART;TZID=America/Toronto:20210419T000000
DTEND;TZID=America/Toronto:20210528T235959
DTSTAMP:20260425T101913
CREATED:20210325T062952Z
LAST-MODIFIED:20250404T120809Z
UID:167766-1618790400-1622246399@gogeomatics.ca
SUMMARY:Code in Place 2021
DESCRIPTION:A Free Python programming online course hosted by Stanford University \nWe are happy to announce that we are going to run Code in Place 2021. Join us for the next offering as either a student (apply by April 8th) or as a section leader (apply by March 25th)! Applications for section leaders are now open! \nIs this the course with the most teachers ever? In 2020\, at the start of the pandemic\, as an act of community service over 900 teachers from around the world came together to offer a first-of-its-kind volunteer-led course called Code in Place\, hosted by Stanford University. Code in Place was a great\, uplifting\, learning experience and over 10\,000 students learned how to code in python. It was such a good time we are going to do it again in April 2021. Applications for students open on April 2nd!
URL:https://gogeomatics.ca/event/code-in-place-2021/
END:VEVENT
BEGIN:VEVENT
DTSTART;TZID=America/Toronto:20210512T110000
DTEND;TZID=America/Toronto:20210512T130000
DTSTAMP:20260425T101913
CREATED:20210504T155339Z
LAST-MODIFIED:20250404T120820Z
UID:169472-1620817200-1620824400@gogeomatics.ca
SUMMARY:State of the Map Industry May 12th
DESCRIPTION:The State of the Map Industry is a new virtual event IMIA has developed for you to hear directly from leading experts in the geospatial\, mapping and location fields of our industry. Our invited panel will be presenting key information on current issues in our industry\, answering your questions on where the industry is headed in the coming year and discussing important trends that may impact your business. \nAfter the featured discussion\, we will use the second hour to break into smaller groups to keep the conversation going and to network. \nOur speakers include: \nBarry Glick\nManaging partner of Carillon Ventures LLC\nDirector at Rand McNally and GeoJunxion \n  \n  \n  \n  \nGreg Scott\nInter-Regional Advisor\, UN-GGIM\nEnvironment Statistics and Geospatial Information Branch\nUnited Nations Statistics Division\nDepartment of Economic and Social Affairs \n  \n  \nGeoff Zeiss\nPrincipal\nBetween the Poles \n  \n  \n  \nModerator\nJonathan Murphy\nFounder & Managing Director\nGoGeomatics Canada \nClick here for more information about our speakers. \n  \nQUICK EVENT DETAILS:\nDate: Wednesday\, May 12\, 2021\nTime: 11am ET – Panel discussion\n12 pm ET – Small group networking\nLocation: Virtual (via Zoom)\nMust pre-register. Custom Zoom link will be sent to registrants two days prior to the event. \nIMIA Annual Sponsors receive complimentary tickets to this event. Please contact IMIA’s Donna De Marco at imia@oferrallgroup.com.
URL:https://gogeomatics.ca/event/state-of-the-map-industry-may-12th/
END:VEVENT
BEGIN:VEVENT
DTSTART;TZID=America/Toronto:20210512T110000
DTEND;TZID=America/Toronto:20210512T170000
DTSTAMP:20260425T101913
CREATED:20210415T190947Z
LAST-MODIFIED:20250404T120810Z
UID:168745-1620817200-1620838800@gogeomatics.ca
SUMMARY:Avenza User Conference 2021
DESCRIPTION:The Avenza User Conference is a free\, day-long virtual conference for map makers\, GIS enthusiasts\, and geospatial professionals worldwide who share a common interest in Avenza mapping technology. The Avenza User Conference 2021 will be held on Wednesday\, May 12\, 2021\, from 11:00 AM to 5:00 PM (EST). \nThe day will offer a mix of virtual sessions from presenters who will share their experience of using Avenza mapping products in their projects\, mapping tips and tricks\, product development updates from the Avenza team\, and remarks from Ted Florence\, Avenza President. \nRegister Here \n  \n 
URL:https://gogeomatics.ca/event/avenza-user-conference-2021/
END:VEVENT
END:VCALENDAR