BEGIN:VCALENDAR
VERSION:2.0
PRODID:-//GoGeomatics - ECPv6.15.20//NONSGML v1.0//EN
CALSCALE:GREGORIAN
METHOD:PUBLISH
X-WR-CALNAME:GoGeomatics
X-ORIGINAL-URL:https://gogeomatics.ca
X-WR-CALDESC:Events for GoGeomatics
REFRESH-INTERVAL;VALUE=DURATION:PT1H
X-Robots-Tag:noindex
X-PUBLISHED-TTL:PT1H
BEGIN:VTIMEZONE
TZID:America/Toronto
BEGIN:DAYLIGHT
TZOFFSETFROM:-0500
TZOFFSETTO:-0400
TZNAME:EDT
DTSTART:20200308T070000
END:DAYLIGHT
BEGIN:STANDARD
TZOFFSETFROM:-0400
TZOFFSETTO:-0500
TZNAME:EST
DTSTART:20201101T060000
END:STANDARD
BEGIN:DAYLIGHT
TZOFFSETFROM:-0500
TZOFFSETTO:-0400
TZNAME:EDT
DTSTART:20210314T070000
END:DAYLIGHT
BEGIN:STANDARD
TZOFFSETFROM:-0400
TZOFFSETTO:-0500
TZNAME:EST
DTSTART:20211107T060000
END:STANDARD
BEGIN:DAYLIGHT
TZOFFSETFROM:-0500
TZOFFSETTO:-0400
TZNAME:EDT
DTSTART:20220313T070000
END:DAYLIGHT
BEGIN:STANDARD
TZOFFSETFROM:-0400
TZOFFSETTO:-0500
TZNAME:EST
DTSTART:20221106T060000
END:STANDARD
END:VTIMEZONE
BEGIN:VEVENT
DTSTART;TZID=America/Toronto:20210529T100000
DTEND;TZID=America/Toronto:20210529T140000
DTSTAMP:20260425T174039
CREATED:20210517T232406Z
LAST-MODIFIED:20250404T120820Z
UID:169944-1622282400-1622296800@gogeomatics.ca
SUMMARY:Canadian Geospatial Virtual Career Seminar
DESCRIPTION:Finding a job in geospatial technology can be difficult. Covid-19 is not making that any easier. That’s why GoGeomatics Canada is bringing back our popular Career Seminar to give job seekers the tools and techniques that will put them ahead in their job search. \nThis online “Zoom” half-day career seminar is designed to give new and seasoned geomatics professionals the tools they need to succeed in the job market. The seminar is particularly focused on those seeking work in GIS\, cartography\, remote sensing\, programming\, and other related geospatial fields. \nJonathan Murphy\, Managing Director of GoGeomatics Canada and geospatial career coach\, will be sharing his valued tips and insight for your job search. He is an expert geomatics professional with close to 20 years of experience. Jon’s career has ranged from the oil fields of Alberta to projects with the United Nations in Switzerland. Topics covered include: \n\nGeospatial Job Market Trends during pandemic\nSpecialty cover letters for GIS & remote sensing\nProfessional associations – should you join one?\nSpecialized GIS & Geospatial job hunting strategies\nHow to analyse a geopsatial job posting\nPortfolios\nSalaries & remuneration\nHow to handle recruiters\nYour LinkedIn profile\nCareer strategies\nThe interview\nThe fundamentals of successful online networking\n\n  \nTestimonials from the Career Seminar in January 2021: \n\n“A large number of COGS students across our geospatial programs attended the GoGeomatics “Geospatial Job Hunting Seminar” in late January: they got so much out of this. Jon’s geospatial-specific insight\, background\, and suggestions were thoroughly appreciated; questions were thoughtfully answered. Many students implemented ideas and suggestions from this job-hunt seminar into their resumes and/or LinkedIn pages. This is definitely a worthwhile session; I highly recommend it.”\n\n– Dave MacLean (@DaveAtCOGS)\, GIS Faculty at COGS\n\n\n“It was really well organized and prepared. No technological hiccups\, and the speaker was excellent”\n\n-Emily\n\n\n“The speaker was very experienced and committed”\n\n-Evan\n\n\n100% of attendees would recommend this event to a colleague or friend!
URL:https://gogeomatics.ca/event/canadian-geospatial-virtual-career-seminar/
END:VEVENT
END:VCALENDAR