BEGIN:VCALENDAR
VERSION:2.0
PRODID:-//GoGeomatics - ECPv6.15.20//NONSGML v1.0//EN
CALSCALE:GREGORIAN
METHOD:PUBLISH
X-WR-CALNAME:GoGeomatics
X-ORIGINAL-URL:https://gogeomatics.ca
X-WR-CALDESC:Events for GoGeomatics
REFRESH-INTERVAL;VALUE=DURATION:PT1H
X-Robots-Tag:noindex
X-PUBLISHED-TTL:PT1H
BEGIN:VTIMEZONE
TZID:America/Toronto
BEGIN:DAYLIGHT
TZOFFSETFROM:-0500
TZOFFSETTO:-0400
TZNAME:EDT
DTSTART:20200308T070000
END:DAYLIGHT
BEGIN:STANDARD
TZOFFSETFROM:-0400
TZOFFSETTO:-0500
TZNAME:EST
DTSTART:20201101T060000
END:STANDARD
BEGIN:DAYLIGHT
TZOFFSETFROM:-0500
TZOFFSETTO:-0400
TZNAME:EDT
DTSTART:20210314T070000
END:DAYLIGHT
BEGIN:STANDARD
TZOFFSETFROM:-0400
TZOFFSETTO:-0500
TZNAME:EST
DTSTART:20211107T060000
END:STANDARD
BEGIN:DAYLIGHT
TZOFFSETFROM:-0500
TZOFFSETTO:-0400
TZNAME:EDT
DTSTART:20220313T070000
END:DAYLIGHT
BEGIN:STANDARD
TZOFFSETFROM:-0400
TZOFFSETTO:-0500
TZNAME:EST
DTSTART:20221106T060000
END:STANDARD
END:VTIMEZONE
BEGIN:VEVENT
DTSTART;TZID=America/Toronto:20210709T000000
DTEND;TZID=America/Toronto:20210711T235959
DTSTAMP:20260421T133139
CREATED:20210330T234127Z
LAST-MODIFIED:20250404T120809Z
UID:167932-1625788800-1626047999@gogeomatics.ca
SUMMARY:State of the Map 2021
DESCRIPTION:In 2021 the State of the Map conference will be held as an online conference again. Stay tuned for further information about calls for participation\, the conference format and schedule. In the meantime\, please consider signing up for updates via their newsletter\, join the telegram group chat and follow them on Twitter.
URL:https://gogeomatics.ca/event/state-of-the-map-2021/
END:VEVENT
END:VCALENDAR