BEGIN:VCALENDAR
VERSION:2.0
PRODID:-//GoGeomatics - ECPv6.15.20//NONSGML v1.0//EN
CALSCALE:GREGORIAN
METHOD:PUBLISH
X-WR-CALNAME:GoGeomatics
X-ORIGINAL-URL:https://gogeomatics.ca
X-WR-CALDESC:Events for GoGeomatics
REFRESH-INTERVAL;VALUE=DURATION:PT1H
X-Robots-Tag:noindex
X-PUBLISHED-TTL:PT1H
BEGIN:VTIMEZONE
TZID:America/Toronto
BEGIN:DAYLIGHT
TZOFFSETFROM:-0500
TZOFFSETTO:-0400
TZNAME:EDT
DTSTART:20200308T070000
END:DAYLIGHT
BEGIN:STANDARD
TZOFFSETFROM:-0400
TZOFFSETTO:-0500
TZNAME:EST
DTSTART:20201101T060000
END:STANDARD
BEGIN:DAYLIGHT
TZOFFSETFROM:-0500
TZOFFSETTO:-0400
TZNAME:EDT
DTSTART:20210314T070000
END:DAYLIGHT
BEGIN:STANDARD
TZOFFSETFROM:-0400
TZOFFSETTO:-0500
TZNAME:EST
DTSTART:20211107T060000
END:STANDARD
BEGIN:DAYLIGHT
TZOFFSETFROM:-0500
TZOFFSETTO:-0400
TZNAME:EDT
DTSTART:20220313T070000
END:DAYLIGHT
BEGIN:STANDARD
TZOFFSETFROM:-0400
TZOFFSETTO:-0500
TZNAME:EST
DTSTART:20221106T060000
END:STANDARD
END:VTIMEZONE
BEGIN:VEVENT
DTSTART;TZID=America/Toronto:20210819T130000
DTEND;TZID=America/Toronto:20210819T140000
DTSTAMP:20260422T235813
CREATED:20210817T045013Z
LAST-MODIFIED:20250404T120848Z
UID:173749-1629378000-1629381600@gogeomatics.ca
SUMMARY:Geo for Good Lightning Talks Series #5: Nature Conservation
DESCRIPTION:Google Earth Outreach team hosts a series of monthly lightning talks by and for nonprofits\, scientists and other change-makers who want to leverage mapping tools and technology for positive impact in the world. \nWe hope those talks will inspire you to think of new ways they can have impact with Google’s tools or provide operational or practical hints to improve and optimize their workflows. \nThe theme of August is Nature Conservation\, where we’ll hear from NGOs\, scientists and practitioners on how they use Google mapping tools to address issues in nature.
URL:https://gogeomatics.ca/event/geo-for-good-lightning-talks-series-5-nature-conservation/
END:VEVENT
END:VCALENDAR