BEGIN:VCALENDAR
VERSION:2.0
PRODID:-//GoGeomatics - ECPv6.15.20//NONSGML v1.0//EN
CALSCALE:GREGORIAN
METHOD:PUBLISH
X-ORIGINAL-URL:https://gogeomatics.ca
X-WR-CALDESC:Events for GoGeomatics
REFRESH-INTERVAL;VALUE=DURATION:PT1H
X-Robots-Tag:noindex
X-PUBLISHED-TTL:PT1H
BEGIN:VTIMEZONE
TZID:America/Toronto
BEGIN:DAYLIGHT
TZOFFSETFROM:-0500
TZOFFSETTO:-0400
TZNAME:EDT
DTSTART:20200308T070000
END:DAYLIGHT
BEGIN:STANDARD
TZOFFSETFROM:-0400
TZOFFSETTO:-0500
TZNAME:EST
DTSTART:20201101T060000
END:STANDARD
BEGIN:DAYLIGHT
TZOFFSETFROM:-0500
TZOFFSETTO:-0400
TZNAME:EDT
DTSTART:20210314T070000
END:DAYLIGHT
BEGIN:STANDARD
TZOFFSETFROM:-0400
TZOFFSETTO:-0500
TZNAME:EST
DTSTART:20211107T060000
END:STANDARD
BEGIN:DAYLIGHT
TZOFFSETFROM:-0500
TZOFFSETTO:-0400
TZNAME:EDT
DTSTART:20220313T070000
END:DAYLIGHT
BEGIN:STANDARD
TZOFFSETFROM:-0400
TZOFFSETTO:-0500
TZNAME:EST
DTSTART:20221106T060000
END:STANDARD
END:VTIMEZONE
BEGIN:VEVENT
DTSTART;TZID=America/Toronto:20211020T080000
DTEND;TZID=America/Toronto:20211022T170000
DTSTAMP:20260419T220557
CREATED:20210513T114703Z
LAST-MODIFIED:20250404T120820Z
UID:169697-1634716800-1634922000@gogeomatics.ca
SUMMARY:Geospatial World Forum 2021
DESCRIPTION:Geospatial World Forum 2021 is back with a mission to re-connect the supply and demand of geospatial capabilities across economic sectors through solution-based thematic programs\, high-level roundtable meetings\, workshops\, trainings and various after-hours social functions. \nGWF 2021 will be hosted in a unique conference venue located on the magnificently beautiful national heritage site at the Amsterdam North Sea Canal. The buildings of Taets are part of the industrial heritage on the Hembrug terrain\, a monumental industrial terrain dating from 1897. The terrain has grown into a creative hotbed\, to which craftsmanship and sustainability are central. On the Hembrug terrain\, you can eat and drink\, shop\, visit a museum or take a look at the craftsmen studios. We look forward to hosting you in this spectacular industrial and historic venue!
URL:https://gogeomatics.ca/event/geospatial-world-forum-2021/
END:VEVENT
BEGIN:VEVENT
DTSTART;TZID=America/Toronto:20211020T080000
DTEND;TZID=America/Toronto:20211022T170000
DTSTAMP:20260419T220557
CREATED:20210513T115719Z
LAST-MODIFIED:20250404T120820Z
UID:169699-1634716800-1634922000@gogeomatics.ca
SUMMARY:Le rendez-vous attendu de la communauté géomatique québécoise
DESCRIPTION:Organisé par l’Association canadienne des sciences géomatiques – Section Champlain \nToute la communauté géomatique du Québec se donne rendez-vous au Centre des congrès de Québec\, les 20\, 21 et 22 octobre prochains\, lors de l’événement GéoQC2021. Abordant des thèmes actuels tels que la fin du programme de rénovation cadastrale et la suite de ce grand projet\, les zones inondables\, la santé publique\, l’hydrospatiale\, l’intelligence artificielle\, GéoQC2021 se veut une plateforme d’échange sur les nouvelles opportunités qui se dessinent. Soyez des nôtres ! \nhttp://www.geoqc2021.ca/
URL:https://gogeomatics.ca/event/le-rendez-vous-attendu-de-la-communaute-geomatique-quebecoise/
END:VEVENT
END:VCALENDAR