BEGIN:VCALENDAR
VERSION:2.0
PRODID:-//GoGeomatics - ECPv6.15.20//NONSGML v1.0//EN
CALSCALE:GREGORIAN
METHOD:PUBLISH
X-ORIGINAL-URL:https://gogeomatics.ca
X-WR-CALDESC:Events for GoGeomatics
REFRESH-INTERVAL;VALUE=DURATION:PT1H
X-Robots-Tag:noindex
X-PUBLISHED-TTL:PT1H
BEGIN:VTIMEZONE
TZID:America/Toronto
BEGIN:DAYLIGHT
TZOFFSETFROM:-0500
TZOFFSETTO:-0400
TZNAME:EDT
DTSTART:20200308T070000
END:DAYLIGHT
BEGIN:STANDARD
TZOFFSETFROM:-0400
TZOFFSETTO:-0500
TZNAME:EST
DTSTART:20201101T060000
END:STANDARD
BEGIN:DAYLIGHT
TZOFFSETFROM:-0500
TZOFFSETTO:-0400
TZNAME:EDT
DTSTART:20210314T070000
END:DAYLIGHT
BEGIN:STANDARD
TZOFFSETFROM:-0400
TZOFFSETTO:-0500
TZNAME:EST
DTSTART:20211107T060000
END:STANDARD
BEGIN:DAYLIGHT
TZOFFSETFROM:-0500
TZOFFSETTO:-0400
TZNAME:EDT
DTSTART:20220313T070000
END:DAYLIGHT
BEGIN:STANDARD
TZOFFSETFROM:-0400
TZOFFSETTO:-0500
TZNAME:EST
DTSTART:20221106T060000
END:STANDARD
END:VTIMEZONE
BEGIN:VEVENT
DTSTART;TZID=America/Toronto:20211129T110000
DTEND;TZID=America/Toronto:20211129T173000
DTSTAMP:20260421T043819
CREATED:20211102T134433Z
LAST-MODIFIED:20250404T120920Z
UID:179248-1638183600-1638207000@gogeomatics.ca
SUMMARY:Introduction to Remote Sensing Analysis Using QGIS
DESCRIPTION:Intro to Remote Sensing Analysis Using QGIS\nNov 29\n$300\n\n\n\nGeoTechTraining.com has arranged the latest geo technology trends and techniques training led by leading industry experts in a safe and convenient online platform.  \nIntroduction to Remote Sensing Analysis Using QGIS \nLearn how to interpret and analyze satellite imagery using QGIS with Eric Purdie. Eric is a GIS instructor at Algonquin College. \nParticipants will learn how to interpret and analyze satellite imagery using QGIS.  The instructor will guide participants through each learning goal step-by-step live online. This course uses datasets based on real-world GIS projects and QGIS. Students will gain an understanding of how to leverage QGIS open-source analysis tools to ask and answer questions to solve real world issues. \nTopics covered: Image processing (e.g. Error correction and projection)\, analysis (e.g. NDVI\, Tasseled Cap Transformation\, and Supervised Classification using AI/ML)\, and terrain analysis (e.g. Creating DSM’s & DTM’s with LiDAR datasets). \nRead a full description of this seminar before registering here.
URL:https://gogeomatics.ca/event/introduction-to-remote-sensing-analysis-using-qgis/
ORGANIZER;CN="GeoTech Training":MAILTO:jmurphy@gogeomatics.ca
END:VEVENT
END:VCALENDAR