BEGIN:VCALENDAR
VERSION:2.0
PRODID:-//GoGeomatics - ECPv6.15.20//NONSGML v1.0//EN
CALSCALE:GREGORIAN
METHOD:PUBLISH
X-WR-CALNAME:GoGeomatics
X-ORIGINAL-URL:https://gogeomatics.ca
X-WR-CALDESC:Events for GoGeomatics
REFRESH-INTERVAL;VALUE=DURATION:PT1H
X-Robots-Tag:noindex
X-PUBLISHED-TTL:PT1H
BEGIN:VTIMEZONE
TZID:America/Toronto
BEGIN:DAYLIGHT
TZOFFSETFROM:-0500
TZOFFSETTO:-0400
TZNAME:EDT
DTSTART:20210314T070000
END:DAYLIGHT
BEGIN:STANDARD
TZOFFSETFROM:-0400
TZOFFSETTO:-0500
TZNAME:EST
DTSTART:20211107T060000
END:STANDARD
BEGIN:DAYLIGHT
TZOFFSETFROM:-0500
TZOFFSETTO:-0400
TZNAME:EDT
DTSTART:20220313T070000
END:DAYLIGHT
BEGIN:STANDARD
TZOFFSETFROM:-0400
TZOFFSETTO:-0500
TZNAME:EST
DTSTART:20221106T060000
END:STANDARD
BEGIN:DAYLIGHT
TZOFFSETFROM:-0500
TZOFFSETTO:-0400
TZNAME:EDT
DTSTART:20230312T070000
END:DAYLIGHT
BEGIN:STANDARD
TZOFFSETFROM:-0400
TZOFFSETTO:-0500
TZNAME:EST
DTSTART:20231105T060000
END:STANDARD
END:VTIMEZONE
BEGIN:VEVENT
DTSTART;TZID=America/Toronto:20220530T000000
DTEND;TZID=America/Toronto:20220603T235959
DTSTAMP:20260419T204059
CREATED:20220331T042341Z
LAST-MODIFIED:20250404T120937Z
UID:189071-1653868800-1654300799@gogeomatics.ca
SUMMARY:The 72nd Annual Meeting of the Canadian Association of Geographers
DESCRIPTION:The Department of Geography and Environmental Studies at X* University is pleased to extend an invitation to the 72nd Annual Meeting of the Canadian Association of Geographers\, which will run virtually from May 30 to June 3\, 2022. \nThe CAG 2022 meeting is an opportunity to connect with fellow geographers on topics of interest! There are several ways that you can get involved in the conference\, including: \n\nPaper presentations\nPoster displays\nThesis proposal presentations\nRoundtables and Panels\n\n  \nPaper\, Poster\, and Thesis Proposal Presentations: Those wishing to present their research are invited to submit an abstract here. Abstracts should be 250 words or less\, and include a complete list of authors\, as well as up to five keywords. DEADLINE FOR SUBMISSIONS: April 15\, 2022. \nThere have been a number of sessions already organized: \n\nUrban Geography – Research and Practice\nSpecial Sessions Related to Economic Geography\nGeographies of Health and Health Care\nTimes of Displacement\nEnvironment and Resources Study Group (ERSG) Special Session\nGeospatial Data Science\nGeographies of Asia\nInternational Migration in disruptive times: challenges\, recovery\, and renewal\nSpatial statistical analytics for environmental modelling\n\nMore information on these sessions can be found here. If one of the sessions is of interest of you\, please feel free to contact the session organizers! \nSpecial Sessions\, Roundtables\, Panels: Those wishing to organize special sessions can submit a proposed session here. Please include the proposed session title\, as well as description. If the names of presenters or panelists are known\, please also provide this information during submission. DEADLINE FOR SUBMISSIONS: April 1\, 2022. \nRegister for the conference here. Special rates available for CAG Members! \nFor more information\, or if you want to propose another idea to get involved\, please contact Dr. Evan Cleave at evan.cleave@ryerson.ca. \n  \nLe Département de géographie et des études environnementales de l’Université X* est heureux de vous inviter au 72e Congrès de l’Association canadienne des géographes\, qui se déroulera virtuellement du 30 mai au 3 juin 2022. \nLe Congrès de l’ACG 2022 est l’occasion de rencontrer des collègues géographes pour discuter de sujets d’intérêt ! Il y a plusieurs façons de participer au congrès\, notamment : \n\nPrésentations de communications\nPrésentation d’affiches\nPrésentations de propositions de theses\nTables rondes et panels\n\nPrésentations de communications\, d’affiches et de propositions de thèses : Ceux qui souhaitent présenter leurs recherches sont invités à soumettre un résumé ici. Les résumés doivent compter 250 mots ou moins\, et inclure une liste complète des auteurs\, ainsi qu’un maximum de cinq mots-clés. DATE LIMITE DE SOUMISSION : le 15 avril 2022 \nDe nombreuses séances ont déjà été organisées (en anglais – les séances en français sont les bienvenues !) : \n\nUrban Geography – Research and Practice\nSpecial Sessions Related to Economic Geography\nGeographies of Health and Health Care\nTimes of Displacement\nEnvironment and Resources Study Group (ERSG) Special Session\nGeospatial Data Science\nGeographies of Asia\nInternational Migration in disruptive times: challenges\, recovery\, and renewal\nSpatial statistical analytics for environmental modelling\n\nVous trouverez de plus amples informations sur ces séances ici. Si l’une des séances vous intéresse\, n’hésitez pas à contacter les organisateurs/trices de la séance ! \nSéances spéciales\, tables rondes\, panels : Ceux qui souhaitent organiser des séances spéciales peuvent soumettre une proposition de séance ici. Veuillez inclure le titre de la séance proposée\, ainsi que sa description. Si les noms des présentateurs ou des panélistes sont connus\, veuillez également fournir ces informations lors de la soumission. DATE LIMITE DE SOUMISSION : le 1er avril 2022 \nInscrivez-vous au congrès ici. Tarifs spéciaux pour les membres de l’ACG ! \nPour plus d’informations\, ou si vous voulez proposer une autre idée pour vous impliquer\, veuillez contacter Dr Evan Cleave at evan.cleave@ryerson.ca.
URL:https://gogeomatics.ca/event/the-72nd-annual-meeting-of-the-canadian-association-of-geographers/
END:VEVENT
END:VCALENDAR