BEGIN:VCALENDAR
VERSION:2.0
PRODID:-//GoGeomatics - ECPv6.15.20//NONSGML v1.0//EN
CALSCALE:GREGORIAN
METHOD:PUBLISH
X-WR-CALNAME:GoGeomatics
X-ORIGINAL-URL:https://gogeomatics.ca
X-WR-CALDESC:Events for GoGeomatics
REFRESH-INTERVAL;VALUE=DURATION:PT1H
X-Robots-Tag:noindex
X-PUBLISHED-TTL:PT1H
BEGIN:VTIMEZONE
TZID:America/Toronto
BEGIN:DAYLIGHT
TZOFFSETFROM:-0500
TZOFFSETTO:-0400
TZNAME:EDT
DTSTART:20220313T070000
END:DAYLIGHT
BEGIN:STANDARD
TZOFFSETFROM:-0400
TZOFFSETTO:-0500
TZNAME:EST
DTSTART:20221106T060000
END:STANDARD
BEGIN:DAYLIGHT
TZOFFSETFROM:-0500
TZOFFSETTO:-0400
TZNAME:EDT
DTSTART:20230312T070000
END:DAYLIGHT
BEGIN:STANDARD
TZOFFSETFROM:-0400
TZOFFSETTO:-0500
TZNAME:EST
DTSTART:20231105T060000
END:STANDARD
BEGIN:DAYLIGHT
TZOFFSETFROM:-0500
TZOFFSETTO:-0400
TZNAME:EDT
DTSTART:20240310T070000
END:DAYLIGHT
BEGIN:STANDARD
TZOFFSETFROM:-0400
TZOFFSETTO:-0500
TZNAME:EST
DTSTART:20241103T060000
END:STANDARD
END:VTIMEZONE
BEGIN:VEVENT
DTSTART;TZID=America/Toronto:20230902T090000
DTEND;TZID=America/Toronto:20230907T170000
DTSTAMP:20260420T211855
CREATED:20230620T184931Z
LAST-MODIFIED:20250404T090718Z
UID:199487-1693645200-1694106000@gogeomatics.ca
SUMMARY:ISPRS 2023 Geospatial (Egypt GSW 2023)
DESCRIPTION:Remote Sensing For Better Future\nThe ISPRS will host the first Geospatial Week in Africa and Middle East in Egypt\, 2023; with the the “Remote Sensing for Better Future”. The ISPRS Geospatial Week (GSW) is a combination of workshops organized by about 30 ISPRS Working Groups active in areas of interest of ISPRS. The GSW will provide a platform for international scholars\, graduate students\, future scientists and industrial sectors to learn exchange knowledge and experiences of applying geospatial technologies for sustainable development for better quality of life for people around the world. \n\n\nPaper submissions\nFull paper submission (Annals): March 2023 (hard deadline\, no extension)\nAbstract submission (Archives): April 2023 (hard deadline\, no extension)\nAbstract submission (Archives): April 2023 (hard deadline\, no extension)\nFull paper Author notification: May 2023\nCamera ready paper submission: July 2023 \nRegistration deadlines\nEarly bird registration deadline: May 1\, 2023\nLate registration deadline: July 1\, 2023 \n\n\nEvent Themes\n\nThe GSW’2023 will have a number of workshops on the following sub-themes that represent that state of the art and future trends in GeoSpatial Technologies:\n\nMMT and HDMaps – Mobile Mapping Technologies and HDMaps\nIAMS – Intelligent and autonomous mapping systems\nSARcon 2023 – SAR constellations and applications\nRobotics for Mapping – SLAM approaches for mobile mapping and robot intelligence\nSemantics3D – Semantic Scene Analysis and 3D Reconstruction from Images and Image Sequences\n3DS Smart Cities – 3D Sensing for Smart Cities\nAI-PC : AI-based Point Cloud and Image Understanding\nIndoor 3D\nMapping from UAVs\nGeospatial Information 4 SDGs\nSensor orientation and calibration for mapping and navigation purposes\nEmerging Navigation and Mapping Technologies for Autonomous Systems\nDigital Twin\nSDI “Toward a SDSS”\nCrowdsourcing for Global Mapping\nInternational Symposium on Spatial Data Quality (ISSDQ)
URL:https://gogeomatics.ca/event/isprs-2023-geospatial-egypt-gsw-2023/
END:VEVENT
END:VCALENDAR