BEGIN:VCALENDAR
VERSION:2.0
PRODID:-//GoGeomatics - ECPv6.15.20//NONSGML v1.0//EN
CALSCALE:GREGORIAN
METHOD:PUBLISH
X-WR-CALNAME:GoGeomatics
X-ORIGINAL-URL:https://gogeomatics.ca
X-WR-CALDESC:Events for GoGeomatics
REFRESH-INTERVAL;VALUE=DURATION:PT1H
X-Robots-Tag:noindex
X-PUBLISHED-TTL:PT1H
BEGIN:VTIMEZONE
TZID:America/Toronto
BEGIN:DAYLIGHT
TZOFFSETFROM:-0500
TZOFFSETTO:-0400
TZNAME:EDT
DTSTART:20220313T070000
END:DAYLIGHT
BEGIN:STANDARD
TZOFFSETFROM:-0400
TZOFFSETTO:-0500
TZNAME:EST
DTSTART:20221106T060000
END:STANDARD
BEGIN:DAYLIGHT
TZOFFSETFROM:-0500
TZOFFSETTO:-0400
TZNAME:EDT
DTSTART:20230312T070000
END:DAYLIGHT
BEGIN:STANDARD
TZOFFSETFROM:-0400
TZOFFSETTO:-0500
TZNAME:EST
DTSTART:20231105T060000
END:STANDARD
BEGIN:DAYLIGHT
TZOFFSETFROM:-0500
TZOFFSETTO:-0400
TZNAME:EDT
DTSTART:20240310T070000
END:DAYLIGHT
BEGIN:STANDARD
TZOFFSETFROM:-0400
TZOFFSETTO:-0500
TZNAME:EST
DTSTART:20241103T060000
END:STANDARD
END:VTIMEZONE
BEGIN:VEVENT
DTSTART;TZID=America/Toronto:20230902T090000
DTEND;TZID=America/Toronto:20230907T170000
DTSTAMP:20260421T060944
CREATED:20230620T184931Z
LAST-MODIFIED:20250404T090718Z
UID:199487-1693645200-1694106000@gogeomatics.ca
SUMMARY:ISPRS 2023 Geospatial (Egypt GSW 2023)
DESCRIPTION:Remote Sensing For Better Future\nThe ISPRS will host the first Geospatial Week in Africa and Middle East in Egypt\, 2023; with the the “Remote Sensing for Better Future”. The ISPRS Geospatial Week (GSW) is a combination of workshops organized by about 30 ISPRS Working Groups active in areas of interest of ISPRS. The GSW will provide a platform for international scholars\, graduate students\, future scientists and industrial sectors to learn exchange knowledge and experiences of applying geospatial technologies for sustainable development for better quality of life for people around the world. \n\n\nPaper submissions\nFull paper submission (Annals): March 2023 (hard deadline\, no extension)\nAbstract submission (Archives): April 2023 (hard deadline\, no extension)\nAbstract submission (Archives): April 2023 (hard deadline\, no extension)\nFull paper Author notification: May 2023\nCamera ready paper submission: July 2023 \nRegistration deadlines\nEarly bird registration deadline: May 1\, 2023\nLate registration deadline: July 1\, 2023 \n\n\nEvent Themes\n\nThe GSW’2023 will have a number of workshops on the following sub-themes that represent that state of the art and future trends in GeoSpatial Technologies:\n\nMMT and HDMaps – Mobile Mapping Technologies and HDMaps\nIAMS – Intelligent and autonomous mapping systems\nSARcon 2023 – SAR constellations and applications\nRobotics for Mapping – SLAM approaches for mobile mapping and robot intelligence\nSemantics3D – Semantic Scene Analysis and 3D Reconstruction from Images and Image Sequences\n3DS Smart Cities – 3D Sensing for Smart Cities\nAI-PC : AI-based Point Cloud and Image Understanding\nIndoor 3D\nMapping from UAVs\nGeospatial Information 4 SDGs\nSensor orientation and calibration for mapping and navigation purposes\nEmerging Navigation and Mapping Technologies for Autonomous Systems\nDigital Twin\nSDI “Toward a SDSS”\nCrowdsourcing for Global Mapping\nInternational Symposium on Spatial Data Quality (ISSDQ)
URL:https://gogeomatics.ca/event/isprs-2023-geospatial-egypt-gsw-2023/
END:VEVENT
BEGIN:VEVENT
DTSTART;TZID=America/Toronto:20230905T063000
DTEND;TZID=America/Toronto:20230907T153000
DTSTAMP:20260421T060944
CREATED:20230602T182710Z
LAST-MODIFIED:20250404T090718Z
UID:198835-1693895400-1694100600@gogeomatics.ca
SUMMARY:Commercial UAV Expo
DESCRIPTION:Commercial UAV Expo\, September 5-7\, 2023 in Las Vegas is the premier event for the commercial drone industry focusing on the integration/operation of commercial UAS.  The event will feature exhibits and demonstrations by UAS solutions providers; keynotes\, panel discussions\, and presentations with interactive Q&A and chat; AI-powered networking; and more. Industries covered include Construction; Drone Delivery; Energy & Utilities; Forestry & Agriculture; Infrastructure & Transportation; Mining & Aggregates; Public Safety & Emergency Services; Security; and Surveying & Mapping. It is presented by Commercial UAV News and organized by Diversified Communications.  Use code SAVE100 for a $100 discount and/or FREE expo admission. 4\,000 attendees from 75 nations.
URL:https://gogeomatics.ca/event/commercial-uav-expo/
LOCATION:Las Vegas\, Nevada
ATTACH;FMTTYPE=image/jpeg:https://gogeomatics.ca/wp-content/uploads/Logo-ExpoUAV-NODATE-400-2.jpg
END:VEVENT
BEGIN:VEVENT
DTSTART;TZID=America/Toronto:20230905T080000
DTEND;TZID=America/Toronto:20230906T170000
DTSTAMP:20260421T060944
CREATED:20230327T150445Z
LAST-MODIFIED:20250404T090718Z
UID:196270-1693900800-1694019600@gogeomatics.ca
SUMMARY:Spatial Data Science Symposium
DESCRIPTION:The 4th edition of the Spatial Data Science Symposium\, will take place as a distributed/virtual meeting on Sept 5-6\, 2023: http://sdss2023.spatial-data-science.net/ \n 
URL:https://gogeomatics.ca/event/spatial-data-science-symposium/
END:VEVENT
END:VCALENDAR