BEGIN:VCALENDAR
VERSION:2.0
PRODID:-//GoGeomatics - ECPv6.15.20//NONSGML v1.0//EN
CALSCALE:GREGORIAN
METHOD:PUBLISH
X-WR-CALNAME:GoGeomatics
X-ORIGINAL-URL:https://gogeomatics.ca
X-WR-CALDESC:Events for GoGeomatics
REFRESH-INTERVAL;VALUE=DURATION:PT1H
X-Robots-Tag:noindex
X-PUBLISHED-TTL:PT1H
BEGIN:VTIMEZONE
TZID:America/Toronto
BEGIN:DAYLIGHT
TZOFFSETFROM:-0500
TZOFFSETTO:-0400
TZNAME:EDT
DTSTART:20220313T070000
END:DAYLIGHT
BEGIN:STANDARD
TZOFFSETFROM:-0400
TZOFFSETTO:-0500
TZNAME:EST
DTSTART:20221106T060000
END:STANDARD
BEGIN:DAYLIGHT
TZOFFSETFROM:-0500
TZOFFSETTO:-0400
TZNAME:EDT
DTSTART:20230312T070000
END:DAYLIGHT
BEGIN:STANDARD
TZOFFSETFROM:-0400
TZOFFSETTO:-0500
TZNAME:EST
DTSTART:20231105T060000
END:STANDARD
BEGIN:DAYLIGHT
TZOFFSETFROM:-0500
TZOFFSETTO:-0400
TZNAME:EDT
DTSTART:20240310T070000
END:DAYLIGHT
BEGIN:STANDARD
TZOFFSETFROM:-0400
TZOFFSETTO:-0500
TZNAME:EST
DTSTART:20241103T060000
END:STANDARD
END:VTIMEZONE
BEGIN:VEVENT
DTSTART;TZID=America/Toronto:20230925T190000
DTEND;TZID=America/Toronto:20230925T220000
DTSTAMP:20260421T215926
CREATED:20230830T191645Z
LAST-MODIFIED:20250404T090718Z
UID:202352-1695668400-1695679200@gogeomatics.ca
SUMMARY:Toronto GoGeomatics Back to School Social
DESCRIPTION:Toronto\, the time has come to reunite and celebrate our shared passion for geomatics\, GIS\, and geography! Mark your calendars for the GoGeomatics Back to School. This event welcomes students and grads to this incredible sector and gives them a unique opportunity to meet working professionals. \nJoin us on September 25th at 7:00 PM at The Madison Avenue Pub for an evening filled with great conversation\, networking\, appetizers and giveaways! Don’t miss this chance to connect and grow together. \nFeel free to bring friends and colleagues along! We’re eager to welcome everyone back for a fantastic evening! This is a free event.
URL:https://gogeomatics.ca/event/toronto-gogeomatics-back-to-school-social/
LOCATION:The Madison Avenue Pub\, 14 Madison Avenue\, Toronto\, ON\, M5R 2S1\, Canada
ATTACH;FMTTYPE=image/jpeg:https://gogeomatics.ca/wp-content/uploads/Toronto-BTS-2023-6.jpg
END:VEVENT
END:VCALENDAR