BEGIN:VCALENDAR
VERSION:2.0
PRODID:-//GoGeomatics - ECPv6.15.20//NONSGML v1.0//EN
CALSCALE:GREGORIAN
METHOD:PUBLISH
X-ORIGINAL-URL:https://gogeomatics.ca
X-WR-CALDESC:Events for GoGeomatics
REFRESH-INTERVAL;VALUE=DURATION:PT1H
X-Robots-Tag:noindex
X-PUBLISHED-TTL:PT1H
BEGIN:VTIMEZONE
TZID:America/Toronto
BEGIN:DAYLIGHT
TZOFFSETFROM:-0500
TZOFFSETTO:-0400
TZNAME:EDT
DTSTART:20250309T070000
END:DAYLIGHT
BEGIN:STANDARD
TZOFFSETFROM:-0400
TZOFFSETTO:-0500
TZNAME:EST
DTSTART:20251102T060000
END:STANDARD
BEGIN:DAYLIGHT
TZOFFSETFROM:-0500
TZOFFSETTO:-0400
TZNAME:EDT
DTSTART:20260308T070000
END:DAYLIGHT
BEGIN:STANDARD
TZOFFSETFROM:-0400
TZOFFSETTO:-0500
TZNAME:EST
DTSTART:20261101T060000
END:STANDARD
BEGIN:DAYLIGHT
TZOFFSETFROM:-0500
TZOFFSETTO:-0400
TZNAME:EDT
DTSTART:20270314T070000
END:DAYLIGHT
BEGIN:STANDARD
TZOFFSETFROM:-0400
TZOFFSETTO:-0500
TZNAME:EST
DTSTART:20271107T060000
END:STANDARD
END:VTIMEZONE
BEGIN:VEVENT
DTSTART;TZID=America/Toronto:20260324T180000
DTEND;TZID=America/Toronto:20260324T200000
DTSTAMP:20260419T121133
CREATED:20251124T205645Z
LAST-MODIFIED:20260105T155944Z
UID:243157-1774375200-1774382400@gogeomatics.ca
SUMMARY:Calgary GoGeomatics March Social
DESCRIPTION:Details\n\n\n\n\n\nGoGeomatics Calgary Meetup \n📍 Location: Pig and Duke Neighbourhood Pub\, 1312 12 Avenue SW\, Calgary\, Alberta \n📅 When: Tuesday March 24\, 2026\n⏰ Time: 6:00 PM to 8:00 PM \nCome join Calgary’s geomatics and geospatial community for an evening of relaxed conversation\, networking\, and connection. Whether you work in GIS\, surveying\, remote sensing\, BIM\, mapping\, or any related field\, this meetup is a chance to meet peers\, exchange ideas\, and stay plugged into what is happening locally. \nThese gatherings are casual and welcoming. There is no formal program — just good discussion and a chance to socialize with others who share your interests. \n🌟 Highlights\n• Meet other geomatics and GIS professionals in Calgary\n• Discover what projects and technologies people are working with\n• Share career insights\, opportunities\, and experiences\n• Connect with students\, early career professionals\, and industry veterans \nGuests purchase their own food and drinks\, and the Pig and Duke offers a full menu if you want something during the meetup. \n🚀 Group Leaders\nThe Calgary meetups are supported by local community members Darcy Roe and George Petropoulos\, who help keep everything organized and make sure newcomers feel welcome. \n📌 Note\nThis meetup was scheduled one week later than usual to avoid Saint Patrick’s Day festivities at the pub.\n👉 Be part of Calgary’s growing geomatics and geospatial network.\nRSVP now and bring a friend. 🌍
URL:https://gogeomatics.ca/event/calgary-gogeomatics-march-social/
LOCATION:Pig & Duke Neighbourhood Pub\, 1312 12 Ave SW ·\, Calgary\, AB\, Canada
CATEGORIES:Calgary
END:VEVENT
END:VCALENDAR