BEGIN:VCALENDAR
VERSION:2.0
PRODID:-//GoGeomatics - ECPv6.15.20//NONSGML v1.0//EN
CALSCALE:GREGORIAN
METHOD:PUBLISH
X-WR-CALNAME:GoGeomatics
X-ORIGINAL-URL:https://gogeomatics.ca
X-WR-CALDESC:Events for GoGeomatics
REFRESH-INTERVAL;VALUE=DURATION:PT1H
X-Robots-Tag:noindex
X-PUBLISHED-TTL:PT1H
BEGIN:VTIMEZONE
TZID:America/Vancouver
BEGIN:DAYLIGHT
TZOFFSETFROM:-0800
TZOFFSETTO:-0700
TZNAME:PDT
DTSTART:20240310T100000
END:DAYLIGHT
BEGIN:STANDARD
TZOFFSETFROM:-0700
TZOFFSETTO:-0800
TZNAME:PST
DTSTART:20241103T090000
END:STANDARD
BEGIN:DAYLIGHT
TZOFFSETFROM:-0800
TZOFFSETTO:-0700
TZNAME:PDT
DTSTART:20250309T100000
END:DAYLIGHT
BEGIN:STANDARD
TZOFFSETFROM:-0700
TZOFFSETTO:-0800
TZNAME:PST
DTSTART:20251102T090000
END:STANDARD
BEGIN:DAYLIGHT
TZOFFSETFROM:-0800
TZOFFSETTO:-0700
TZNAME:PDT
DTSTART:20260308T100000
END:DAYLIGHT
BEGIN:STANDARD
TZOFFSETFROM:-0700
TZOFFSETTO:-0800
TZNAME:PST
DTSTART:20261101T090000
END:STANDARD
END:VTIMEZONE
BEGIN:VEVENT
DTSTART;TZID=America/Vancouver:20250527T173000
DTEND;TZID=America/Vancouver:20250527T193000
DTSTAMP:20260423T084750
CREATED:20250509T114204Z
LAST-MODIFIED:20250509T114204Z
UID:238457-1748367000-1748374200@gogeomatics.ca
SUMMARY:Kelowna GoGeomatics Networking Social
DESCRIPTION:We will be having a presentation by Anton Platz of Esri Canada demonstrating ArcGIS for Microsoft Office in Meeting Room 2 (upstairs at the top of the stairs) of the library. \nDescription:\nArcGIS for Microsoft Office brings mapping and spatial analysis tools into Excel and PowerPoint\, allowing users to visualize and analyze location-based data directly within familiar Office applications. It helps uncover patterns\, enhance presentations with interactive maps\, and support better decision-making—all without leaving Excel or Teams. \nAnton Platz has been a Technical Solutions Specialist for Esri Canada for two years\, and has worked in GIS for six years. Anton’s specialties are in ArcGIS Enterprise and Online\, with a background in the forestry and oil and gas sectors.\nFrom here\, we have a 6:45 reservation at Central Kitchen + Bar\, 1155 Ellis St. The reservation name is under Dianne/GoGeomatics. If you can’t make the library part\, you’re still welcome to join for the pub social. \nGoGeomatics is a networking event to welcome students\, professionals\, and academics in the field of geomatics in a casual environment.\nCome out and have some drinks with other students\, peers and professionals. This group is open to everyone in any geomatics-related field–GIS\, surveying\, remote sensing\, photogrammetry\, CAD\, and more.
URL:https://gogeomatics.ca/event/kelowna-gogeomatics-networking-social-3/
LOCATION:Kelowna Downtown Library ORL Branch\, 1380 Ellis St\, Kelowna\, Canada
CATEGORIES:Kelowna
END:VEVENT
END:VCALENDAR