BEGIN:VCALENDAR
VERSION:2.0
PRODID:-//GoGeomatics - ECPv6.15.20//NONSGML v1.0//EN
CALSCALE:GREGORIAN
METHOD:PUBLISH
X-WR-CALNAME:GoGeomatics
X-ORIGINAL-URL:https://gogeomatics.ca
X-WR-CALDESC:Events for GoGeomatics
REFRESH-INTERVAL;VALUE=DURATION:PT1H
X-Robots-Tag:noindex
X-PUBLISHED-TTL:PT1H
BEGIN:VTIMEZONE
TZID:America/Toronto
BEGIN:DAYLIGHT
TZOFFSETFROM:-0500
TZOFFSETTO:-0400
TZNAME:EDT
DTSTART:20230312T070000
END:DAYLIGHT
BEGIN:STANDARD
TZOFFSETFROM:-0400
TZOFFSETTO:-0500
TZNAME:EST
DTSTART:20231105T060000
END:STANDARD
BEGIN:DAYLIGHT
TZOFFSETFROM:-0500
TZOFFSETTO:-0400
TZNAME:EDT
DTSTART:20240310T070000
END:DAYLIGHT
BEGIN:STANDARD
TZOFFSETFROM:-0400
TZOFFSETTO:-0500
TZNAME:EST
DTSTART:20241103T060000
END:STANDARD
BEGIN:DAYLIGHT
TZOFFSETFROM:-0500
TZOFFSETTO:-0400
TZNAME:EDT
DTSTART:20250309T070000
END:DAYLIGHT
BEGIN:STANDARD
TZOFFSETFROM:-0400
TZOFFSETTO:-0500
TZNAME:EST
DTSTART:20251102T060000
END:STANDARD
END:VTIMEZONE
BEGIN:VEVENT
DTSTART;TZID=America/Toronto:20240917T183000
DTEND;TZID=America/Toronto:20240917T213000
DTSTAMP:20260423T034528
CREATED:20240820T155600Z
LAST-MODIFIED:20250405T130306Z
UID:213949-1726597800-1726608600@gogeomatics.ca
SUMMARY:Ottawa GoGeomatics Back to School Social
DESCRIPTION:Ottawa\, the time has come to reunite and celebrate our shared passion for Geomatics\, GIS\, and Geography! Mark your calendars for the GoGeomatics Back to School. This event welcomes students and grads to this incredible sector and gives them a unique opportunity to meet working professionals. \nThis year we are partnering with the Digital Built National Capital Region for this join social. \nWe are at the Clarendon Tavern in the heart of the Byward Market. \nJoin us for an evening filled with great conversation and networking\, appetizers and giveaways! Don’t miss this chance to connect and grow together. \nFeel free to bring friends and colleagues along! We’re eager to welcome everyone back for a fantastic evening! This is a free event. \nA big thank you to our sponsor Esri Canada.
URL:https://gogeomatics.ca/event/ottawa-gogeomatics-back-to-school-social-2/
LOCATION:Heart and Crown Preston\, 353 Preston St · Ottawa\, ON\, Ottawa\, ON\, Canada
CATEGORIES:Meetup,Ottawa
ATTACH;FMTTYPE=:
END:VEVENT
END:VCALENDAR