BEGIN:VCALENDAR
VERSION:2.0
PRODID:-//GoGeomatics - ECPv6.15.20//NONSGML v1.0//EN
CALSCALE:GREGORIAN
METHOD:PUBLISH
X-WR-CALNAME:GoGeomatics
X-ORIGINAL-URL:https://gogeomatics.ca
X-WR-CALDESC:Events for GoGeomatics
REFRESH-INTERVAL;VALUE=DURATION:PT1H
X-Robots-Tag:noindex
X-PUBLISHED-TTL:PT1H
BEGIN:VTIMEZONE
TZID:America/Toronto
BEGIN:DAYLIGHT
TZOFFSETFROM:-0500
TZOFFSETTO:-0400
TZNAME:EDT
DTSTART:20170312T070000
END:DAYLIGHT
BEGIN:STANDARD
TZOFFSETFROM:-0400
TZOFFSETTO:-0500
TZNAME:EST
DTSTART:20171105T060000
END:STANDARD
BEGIN:DAYLIGHT
TZOFFSETFROM:-0500
TZOFFSETTO:-0400
TZNAME:EDT
DTSTART:20180311T070000
END:DAYLIGHT
BEGIN:STANDARD
TZOFFSETFROM:-0400
TZOFFSETTO:-0500
TZNAME:EST
DTSTART:20181104T060000
END:STANDARD
BEGIN:DAYLIGHT
TZOFFSETFROM:-0500
TZOFFSETTO:-0400
TZNAME:EDT
DTSTART:20190310T070000
END:DAYLIGHT
BEGIN:STANDARD
TZOFFSETFROM:-0400
TZOFFSETTO:-0500
TZNAME:EST
DTSTART:20191103T060000
END:STANDARD
END:VTIMEZONE
BEGIN:VEVENT
DTSTART;TZID=America/Toronto:20180228T183000
DTEND;TZID=America/Toronto:20180228T203000
DTSTAMP:20260424T193639
CREATED:20180214T183529Z
LAST-MODIFIED:20250407T111158Z
UID:70166-1519842600-1519849800@gogeomatics.ca
SUMMARY:Roadtrip! - Our first meeting on campus in Lindsay
DESCRIPTION:• What we’ll doWe are going on a roadtrip! Come out and meet the future of GIS or if you are the Future of GIS come out and share what the future has to offer!! Nicole Schleifer\, Manager of Geomatics/Mapping for the City of Peterborough\, will give a presentation on the future directions for the City’s GIS including initiatives on open data. Come learn more! \nIf you need a ride please post a message on the message board or messaged Danah directly and we can organize that. \n• What to bringSmiling faces and Geomatics ideas always a must 🙂 \n• Important to know
URL:https://gogeomatics.ca/event/roadtrip-our-first-meeting-in-lindsay/
LOCATION:The Auk\, 200 Albert St. South \,\, Lindsay
CATEGORIES:Meetup,Peterborough
END:VEVENT
END:VCALENDAR