BEGIN:VCALENDAR
VERSION:2.0
PRODID:-//GoGeomatics - ECPv6.15.20//NONSGML v1.0//EN
CALSCALE:GREGORIAN
METHOD:PUBLISH
X-WR-CALNAME:GoGeomatics
X-ORIGINAL-URL:https://gogeomatics.ca
X-WR-CALDESC:Events for GoGeomatics
REFRESH-INTERVAL;VALUE=DURATION:PT1H
X-Robots-Tag:noindex
X-PUBLISHED-TTL:PT1H
BEGIN:VTIMEZONE
TZID:America/Toronto
BEGIN:DAYLIGHT
TZOFFSETFROM:-0500
TZOFFSETTO:-0400
TZNAME:EDT
DTSTART:20170312T070000
END:DAYLIGHT
BEGIN:STANDARD
TZOFFSETFROM:-0400
TZOFFSETTO:-0500
TZNAME:EST
DTSTART:20171105T060000
END:STANDARD
BEGIN:DAYLIGHT
TZOFFSETFROM:-0500
TZOFFSETTO:-0400
TZNAME:EDT
DTSTART:20180311T070000
END:DAYLIGHT
BEGIN:STANDARD
TZOFFSETFROM:-0400
TZOFFSETTO:-0500
TZNAME:EST
DTSTART:20181104T060000
END:STANDARD
BEGIN:DAYLIGHT
TZOFFSETFROM:-0500
TZOFFSETTO:-0400
TZNAME:EDT
DTSTART:20190310T070000
END:DAYLIGHT
BEGIN:STANDARD
TZOFFSETFROM:-0400
TZOFFSETTO:-0500
TZNAME:EST
DTSTART:20191103T060000
END:STANDARD
BEGIN:DAYLIGHT
TZOFFSETFROM:-0500
TZOFFSETTO:-0400
TZNAME:EDT
DTSTART:20200308T070000
END:DAYLIGHT
BEGIN:STANDARD
TZOFFSETFROM:-0400
TZOFFSETTO:-0500
TZNAME:EST
DTSTART:20201101T060000
END:STANDARD
END:VTIMEZONE
BEGIN:VEVENT
DTSTART;TZID=America/Toronto:20190920T190000
DTEND;TZID=America/Toronto:20190920T210000
DTSTAMP:20260421T112411
CREATED:20190801T180423Z
LAST-MODIFIED:20250404T090718Z
UID:142778-1569006000-1569013200@gogeomatics.ca
SUMMARY:Thunder Bay GoGeomatics Back to School Social Sept 20th
DESCRIPTION:Please join us in Thunder Bay for our 6th annual coast to coast free Back to School Socials across Canada this September! \nGoGeomatics is inviting new and returning students to kick off the school year with other geomatics professionals at this free networking event. \nThis is GoGeomatics way of welcoming the newest members of the Canadian geospatial community to the geomatics sector. \nEveryone is welcome\, from all areas of geomatics – from GIS\, to remote sensing\, to surveying\, to cartography. If you are involved in location technology you are invited. \nShare a pint with a great community\, enjoy some free munchies\, and have the chance to win prizes.
URL:https://gogeomatics.ca/event/thunder-bay-gogeomatics-back-to-school-social-sept-20th/
CATEGORIES:Meetup,Thunder Bay
END:VEVENT
BEGIN:VEVENT
DTSTART;TZID=America/Toronto:20190410T170000
DTEND;TZID=America/Toronto:20190410T190000
DTSTAMP:20260421T112411
CREATED:20190331T160749Z
LAST-MODIFIED:20250404T090718Z
UID:139870-1554915600-1554922800@gogeomatics.ca
SUMMARY:GoGeomatics Thunder Bay Social (immediately following the ESRI User Conference)
DESCRIPTION:Our next social is scheduled to coincide with the biennial Thunder Bay ESRI User Conference. The UC brings together geomatics professionals from across the region\, representing a wide range of fields. Please join us for some light apps and refreshments in the Valhalla Lounge\, located in the hotel just around the corner from the conference room. Local group hosts\, Krista Bullock and Jason Freeburn\, will be on-hand to guide conference attendees to the after-social. All are welcome!
URL:https://gogeomatics.ca/event/gogeomatics-thunder-bay-social-immediately-following-the-esri-user-conference/
CATEGORIES:Meetup,Thunder Bay
END:VEVENT
BEGIN:VEVENT
DTSTART;TZID=America/Toronto:20190205T173000
DTEND;TZID=America/Toronto:20190205T193000
DTSTAMP:20260421T112411
CREATED:20190117T160752Z
LAST-MODIFIED:20250404T090718Z
UID:138254-1549387800-1549395000@gogeomatics.ca
SUMMARY:Speaker Series: Thunder Bay GoGeomatics February Meetup
DESCRIPTION:This month Katherine and Graeme\, founders of WAYfinder\, will talk about their experiences creating and deploying their app. The app highlights the many trails and recreation areas in Thunder Bay and the surrounding area. If you haven’t already\, head to the apple or google play store to check it out. \nThe Thunder Bay GoGeomatics Group is a fun\, free\, networking event. We hold socials where Canadian location technology professionals\, enthusiasts\, students\, businesses\, and entrepreneurs get together to network and share. We hope you join us.
URL:https://gogeomatics.ca/event/gogeomatics-february-meetup/
CATEGORIES:Meetup,Thunder Bay
ATTACH;FMTTYPE=image/jpeg:https://gogeomatics.ca/wp-content/uploads/138254_image_600_477915413-2.jpeg
END:VEVENT
BEGIN:VEVENT
DTSTART;TZID=America/Toronto:20180919T190000
DTEND;TZID=America/Toronto:20180919T210000
DTSTAMP:20260421T112411
CREATED:20180811T175906Z
LAST-MODIFIED:20250407T110721Z
UID:120592-1537383600-1537390800@gogeomatics.ca
SUMMARY:Thunder Bay Back to School GoGeomatics Social
DESCRIPTION:Join GoGeomatics Thunder Bay for our Annual Back to School Social! \nEach year we invite all the geospatialists(!) and location technology professionals to meet and welcome our new and returning students from in and around our nations capital. So we hope you can meet us in Thunder Bay for this fun free networking event. \nThese events are amongst the largest in our community so we hope you can join us. There will be munchies like nachos and wings for all and our famous GoGeomatics Tshirts to give away. \nPlease RSVP to let us know you’re attending.
URL:https://gogeomatics.ca/event/thunder-bay-back-to-school-gogeomatics-social/
LOCATION:Montana’s\, 615 Sibley Dr\, Thunder Bay\, P7B 6Z8
CATEGORIES:Thunder Bay
ATTACH;FMTTYPE=image/jpeg:https://gogeomatics.ca/wp-content/uploads/120592_image_600_473591684-2.jpeg
END:VEVENT
BEGIN:VEVENT
DTSTART;TZID=America/Toronto:20180424T180000
DTEND;TZID=America/Toronto:20180424T210000
DTSTAMP:20260421T112411
CREATED:20180321T134943Z
LAST-MODIFIED:20250407T111000Z
UID:73401-1524592800-1524603600@gogeomatics.ca
SUMMARY:URISA Ontario at April's Thunder Bay GG MeetUp!
DESCRIPTION:The Thunder Bay Go Geomatics group along with URISA Ontario are coming together for the meet up this April. Come out and kick off the first URISA Ontario Northern Ontario GIS Users Event with us! You’ll have the opportunity to chat with URISA Ontario Board of Directors and learn about the organization. \nIf you haven’t already\, remember to register for the URISA Ontario Northern Ontario GIS Users Event the following day. To register click the following link https://www.urisaontario.ca/northerngisevent/ \nEarly bird pricing is available until April 1st\, the conference fee includes a 1 year membership with URISA Ontario. \nHope to see you there!
URL:https://gogeomatics.ca/event/urisa-ontario-at-aprils-thunder-bay-go-geomatics-meet-up/
LOCATION:The Lounge at the Valhalla Inn\, 1 Valhalla Inn Road\, Thunder Bay
CATEGORIES:Meetup,Thunder Bay
END:VEVENT
BEGIN:VEVENT
DTSTART;TZID=America/Toronto:20180220T170000
DTEND;TZID=America/Toronto:20180220T210000
DTSTAMP:20260421T112411
CREATED:20180214T183504Z
LAST-MODIFIED:20250407T111209Z
UID:70163-1519146000-1519160400@gogeomatics.ca
SUMMARY:This month GoGeomatics Thunder Bay is teaming up with the Innovation Centre!
DESCRIPTION:• What we’ll doThis month the Thunder Bay GoGeomatics group and the Innovation Centre are teaming up to bring together Remote Sensing\, GIS and anyone interested in technology. Come out and network with peers and chat about technology. \n• What to bring \n• Important to know
URL:https://gogeomatics.ca/event/this-month-gogeomatics-thunder-bay-is-teaming-up-with-the-innovation-centre/
LOCATION:The Foundry\, 242 Red River Rd\, Thunder Bay
CATEGORIES:Meetup,Thunder Bay
END:VEVENT
END:VCALENDAR