BEGIN:VCALENDAR
VERSION:2.0
PRODID:-//GoGeomatics - ECPv6.15.20//NONSGML v1.0//EN
CALSCALE:GREGORIAN
METHOD:PUBLISH
X-WR-CALNAME:GoGeomatics
X-ORIGINAL-URL:https://gogeomatics.ca
X-WR-CALDESC:Events for GoGeomatics
REFRESH-INTERVAL;VALUE=DURATION:PT1H
X-Robots-Tag:noindex
X-PUBLISHED-TTL:PT1H
BEGIN:VTIMEZONE
TZID:America/Toronto
BEGIN:DAYLIGHT
TZOFFSETFROM:-0500
TZOFFSETTO:-0400
TZNAME:EDT
DTSTART:20200308T070000
END:DAYLIGHT
BEGIN:STANDARD
TZOFFSETFROM:-0400
TZOFFSETTO:-0500
TZNAME:EST
DTSTART:20201101T060000
END:STANDARD
BEGIN:DAYLIGHT
TZOFFSETFROM:-0500
TZOFFSETTO:-0400
TZNAME:EDT
DTSTART:20210314T070000
END:DAYLIGHT
BEGIN:STANDARD
TZOFFSETFROM:-0400
TZOFFSETTO:-0500
TZNAME:EST
DTSTART:20211107T060000
END:STANDARD
BEGIN:DAYLIGHT
TZOFFSETFROM:-0500
TZOFFSETTO:-0400
TZNAME:EDT
DTSTART:20220313T070000
END:DAYLIGHT
BEGIN:STANDARD
TZOFFSETFROM:-0400
TZOFFSETTO:-0500
TZNAME:EST
DTSTART:20221106T060000
END:STANDARD
END:VTIMEZONE
BEGIN:VEVENT
DTSTART;TZID=America/Toronto:20210602T120000
DTEND;TZID=America/Toronto:20210602T153000
DTSTAMP:20260422T164327
CREATED:20210514T180231Z
LAST-MODIFIED:20250404T120820Z
UID:169771-1622635200-1622647800@gogeomatics.ca
SUMMARY:ArcGIS Field Apps: Take the Power of Location Anywhere
DESCRIPTION:ArcGIS provides a suite of apps to help digitalize and streamline field data collection workflows in your organization. As soon as you step out of the office\, there is an app to help you efficiently and effortlessly complete your field work and get the information back to those in the office who need it\, right away. \nWe invite you to join us for this virtual seminar to discover how to digitally enable mobile workflows with location intelligence so field work can be completed faster\, more efficiently and provide you with a better return on investment. Watch several demonstrations by our technical specialists and hear from users who are currently using ArcGIS mobile apps in their day-to-day work activities. \n\n\n\n\n\n\n\n\n\n\n\n\n\n\nWhy Attend\n\n\n\n\nDiscover what’s new & exciting in ArcGIS mobile apps\nExplore different options for data collection\, workforce coordination & communication\nEliminate paper-based workflows and optimize field data collection & accuracy\nEnable real-time analysis and location assessment\nUnderstand the benefits of the app integration and learn options for making your mobile apps work seamlessly together\n\n\n\nIntended Audience\n\n\n\nGIS users of all levels who want to start using or learn what’s new in ArcGIS mobile apps. Current ArcGIS mobile apps users are encouraged to sign up for this event.
URL:https://gogeomatics.ca/event/arcgis-field-apps-take-the-power-of-location-anywhere/
END:VEVENT
BEGIN:VEVENT
DTSTART;TZID=America/Toronto:20210606T000000
DTEND;TZID=America/Toronto:20210609T235959
DTSTAMP:20260422T164327
CREATED:20201228T043412Z
LAST-MODIFIED:20250404T120750Z
UID:165268-1622937600-1623283199@gogeomatics.ca
SUMMARY:FOSSGIS-Konferenz 2021
DESCRIPTION:The FOSSGIS conference is the leading conference for Free and Open Source Software Geo-Software and OpenStreetMap. \nThe FOSSGIS Conference 2021 is organized by the non-profit FOSSGIS eV and the OpenStreetMap Community with the support of the OST Campus Rapperswil . \nWhat is the FOSSGIS conference?\nThe aim of the annual conference is the dissemination of free and open source software for geographic information systems. This is where users and developers meet for a mutual exchange about application and work options as well as the latest developments in this area. It’s about web mapping\, spatial data infrastructures\, spatial data management\, GeoProcessing and desktop GIS and about free spatial data such as OpenStreetMap. \nDue to the current pandemic situation\, FOSSGIS is planned as a hybrid event\, ie it will be possible to travel to Rapperswil or take part online. \nThe conference is mainly supported by volunteer work\, whereby in addition to the participation fees\, the income from donations and\, above all\, the income from sponsors and exhibitors\, an important source of financial income to cover the costs of the conference and also to promote open source projects.
URL:https://gogeomatics.ca/event/fossgis-konferenz-2021/
END:VEVENT
BEGIN:VEVENT
DTSTART;TZID=America/Toronto:20210609T000000
DTEND;TZID=America/Toronto:20210609T235959
DTSTAMP:20260422T164327
CREATED:20210602T205722Z
LAST-MODIFIED:20250404T120829Z
UID:170392-1623196800-1623283199@gogeomatics.ca
SUMMARY:Free Online Synthetic Aperture Radar (SAR) data & analysis Event
DESCRIPTION:Join us on June 9th for SAR Sessions\, a half-day event solely focused on the trends\, benefits\, techniques and applications of Synthetic Aperture Radar (SAR) data and analysis.\nExperts from the following organizations will be speaking:\n\n– Airbus Defence and Space\n– e-GEOS\n– German Aerospace Center\n– NASA\n– sarmap SA\n– Intern. Atomic Energy Agency\n– German Federal Institute for Geosciences and Natural Resources (BGR)\n– Ursa Space Systems\n– Capella Space\n– Royal Dutch Shell\n– ICEYE\n\nGain insights from SAR experts in public organizations\, academia\, and commercial industries and see what the present and future of SAR looks like from their perspectives. This event will benefit anyone who is using or considering using SAR data.\nThe main event will be followed up by three practical webinars on June 16th\, June 23rd and June 30th.\nThe best part – this event is completely FREE to attend.\nNot sure if you can attend the entire event or not able to follow the event live because of the time difference? Register anyway and you will receive access to the recordings.\nCheck out the line-up of amazing speakers and reserve your spot today! \n Email us at events@L3Harris.com.
URL:https://gogeomatics.ca/event/free-online-synthetic-aperture-radar-sar-data-analysis-event/
END:VEVENT
BEGIN:VEVENT
DTSTART;TZID=America/Toronto:20210610T080000
DTEND;TZID=America/Toronto:20210611T170000
DTSTAMP:20260422T164327
CREATED:20210601T130415Z
LAST-MODIFIED:20250404T120829Z
UID:170356-1623312000-1623430800@gogeomatics.ca
SUMMARY:The Line Crossed Us 2021: New Directions in Critical Border Studies Conference
DESCRIPTION:Building on the success of our first conference in June 2019\, the Lethbridge Border Studies Group is hosting our virtual follow-up conference\, The Line Crossed Us 2021: New Directions in Critical Border Studies\, from June 10-11\, 2021. \n \nThe conference brings Indigenous\, settler\, and migration politics and histories into conversation and focuses on early-career researchers to promote new voices and cutting-edge questions in the field of critical border studies. \nOur call for papers welcomed submissions from current graduate students\, emerging scholars\, community researchers\, and activists working on any aspect of border studies. This year approximately 70 presenters will share their research in fifteen panels over the two-day conference\, including two events that will be open to the public. \n \nPurchasing a free ticket to this event is your way to register and gain access to the “Online Event Page” where you will find the conference program and associated zoom links. Registration is available at: https://www.eventbrite.ca/e/the-line-crossed-us-2021-new-directions-in-critical-border-studies-tickets-152880019253.  \nIn addition to fifteen panels\, we are also hosting two free public events.  \nThe keynote address\, “A Line of Blood and Dirt: Creating the Canada-United States Border across Indigenous Lands” by Dr. Benjamin Hoy\, will be held on Thursday\, June 10th\, 2021\, from 11:00am to 12:30pm (GMT -6). Registration is available at: https://uleth.zoom.us/webinar/register/WN_J1Q37pzFRiGtdCcrkZca5g.  \nThe public event “Creative Defiance in the U.S.- Mexico Borderlands” will be held on Friday\, June 11th\, 2021\, from 11:00am to 12:30pm (GMT -6). Registration is available at: https://uleth.zoom.us/webinar/register/WN_tL5yAR4OS5WLzAPfAbB8fg.  \nFor more information please contact us at borderstudies@uleth.ca  \nFollow us on Twitter @LethBordStudies
URL:https://gogeomatics.ca/event/the-line-crossed-us-2021-new-directions-in-critical-border-studies-conference/
END:VEVENT
BEGIN:VEVENT
DTSTART;TZID=America/Toronto:20210614T080000
DTEND;TZID=America/Toronto:20210616T170000
DTSTAMP:20260422T164327
CREATED:20210601T130113Z
LAST-MODIFIED:20250404T120829Z
UID:170354-1623657600-1623862800@gogeomatics.ca
SUMMARY:54th annual conference of CARTO the Association of Canadian Map Libraries and Archives
DESCRIPTION:The 54th annual conference of CARTO by the Association of Canadian Map Libraries and Archives (CARTO-ACMLA-ACACC) will be held virtually from June 14-16\, 2021 between 1-3:30 PM EDT. \nCarto 2021 – Program (acmla-acacc.ca)
URL:https://gogeomatics.ca/event/54th-annual-conference-of-carto-the-association-of-canadian-map-libraries/
END:VEVENT
BEGIN:VEVENT
DTSTART;TZID=America/Toronto:20210614T080000
DTEND;TZID=America/Toronto:20210618T170000
DTSTAMP:20260422T164327
CREATED:20210601T175101Z
LAST-MODIFIED:20250404T120829Z
UID:170366-1623657600-1624035600@gogeomatics.ca
SUMMARY:119th OGC Member Meeting Online
DESCRIPTION:Make an impact by participating in the 119th OGC Member Meeting. \nDuring the 119th OGC Member Meeting\, Members and Non-Members alike will be able to explore subjects such as Defense and Intelligence\, Climate\, and Transportation to collectively problem solve critical issues. \nTomorrow’s innovations start with today’s dedication. \nJoin keynotes\, special sessions\, and working groups that are evolving location technologies and standards across the globe.
URL:https://gogeomatics.ca/event/119th-ogc-member-meeting-online/
END:VEVENT
BEGIN:VEVENT
DTSTART;TZID=America/Toronto:20210615T080000
DTEND;TZID=America/Toronto:20210616T170000
DTSTAMP:20260422T164327
CREATED:20210502T233339Z
LAST-MODIFIED:20250404T120820Z
UID:169444-1623744000-1623862800@gogeomatics.ca
SUMMARY:The Earth Archive Virtual Congress
DESCRIPTION:The Earth Archive is an emerging conservation initiative that is revolutionizing the fight against the climate crisis. By scanning the planet’s land surface with very high resolution lidar\, the Earth Archive will create a true three-dimensional digital twin of our world — an open source\, digital record of the Earth that will reflect the landscape exactly as it was at the time of scanning. With this endeavor\, the Earth Archive is positioned to provide geospatial data that will serve as the baseline for understanding and exploring our world.  \nThe Congress will connect researchers\, students\, NGOs\, stakeholders\, indigenous groups\, governmental officials\, and corporate interests to become partners in this groundbreaking effort. Expanding the global Earth Archive community in this way encourages all levels of society to collaborate on a project that could prove fundamental to a solution for climate change. Join us for this hybrid event to become part of this unprecedented initiative.
URL:https://gogeomatics.ca/event/the-earth-archive-virtual-congress/
END:VEVENT
BEGIN:VEVENT
DTSTART;TZID=America/Toronto:20210621T000000
DTEND;TZID=America/Toronto:20210624T235959
DTSTAMP:20260422T164327
CREATED:20210601T055029Z
LAST-MODIFIED:20250404T120829Z
UID:170349-1624233600-1624579199@gogeomatics.ca
SUMMARY:Geo Virtual Symposium 2021
DESCRIPTION:The theme of this year’s symposium is Strengthening inclusive partnerships across the GEO Work Programme (GWP). The aim of the Symposium is to share successful practices and identify ways to accelerate the delivery of products and solutions to address environmental and societal challenges. The symposium will be held from 21 to 24 June 2021. \nTopics covered during the symposium include: \n\nEO solutions for the GEO Engagement Priorities including Climate Action\, Disaster Risk Reduction\, Sustainable Development\, and Urban Resilience;\nEO solutions related to pandemic/epidemic planning\, response\, and recovery;\nTechnologies and methods for enhancing discovery\, access\, analysis\, and use of data and information\, including analysis-ready data\, data cubes\, and data/knowledge platforms;\nApproaches for facilitating the equitable collection\, sharing\, and re-use of EO data\, including consideration of data principles and ethics\, in situ data\, and emerging data sources such as citizen science; and\nGEO community development\, including encouraging inclusivity\, engagement with the commercial sector\, resource mobilization\, communications\, and capacity development.\n\nREGISTER HERE \nThe Symposium will take the form of Plenary Sessions\, Parallel Sessions and Spotlight Sessions. Plenary Sessions will be coordinated by the Symposium Subgroup\, while Parallel Sessions and Spotlight Sessions are open for proposals. To encourage engagement across the entire GEO community and to allow speakers and audiences from all regions to participate\, each day will begin at a different time. More here
URL:https://gogeomatics.ca/event/geo-virtual-symposium-2021/
END:VEVENT
BEGIN:VEVENT
DTSTART;TZID=America/Toronto:20210629T183000
DTEND;TZID=America/Toronto:20210629T193000
DTSTAMP:20260422T164327
CREATED:20210601T163017Z
LAST-MODIFIED:20250404T120829Z
UID:170361-1624991400-1624995000@gogeomatics.ca
SUMMARY:INTO THE ARCTIC: AWAKENING
DESCRIPTION:Join us for a private screening of Cory Trépanier’s stunning new film\, Into the Arctic: Awakening\, that offers an intimate view of the top two-thirds of our home and native land. We’re presenting it with our friends at the Royal Canadian Geographical Society. \nsign up – and it’s all free. It’s our Canada Day gift to you and yours. \nWe will send you your Zoom link 24 hours prior to the screening. \nCory is the world-renowned painter and explorer who shows us the Arctic with new eyes – at a time when climate change is transforming it\, for better and for worse. \nSo join us from 6:30 to 7:30 p.m. ET on Tuesday\, June 29 to see Cory introduce his film\, watch the film itself\, and to ask him all about it. \nWhat better way to get ready for a Canada Day holiday like no other……. and invite your family and friends to join you for? \nOh\, and we’ll be drawing one name from our attendees to win the limited Deluxe Art edition of Cory’s new book\, Into the Arctic: Painting Canada’s Changing North\, worth $750. \nWe hope you’ll join us on June 29th.
URL:https://gogeomatics.ca/event/into-the-arctic-awakening/
END:VEVENT
END:VCALENDAR