BEGIN:VCALENDAR
VERSION:2.0
PRODID:-//GoGeomatics - ECPv6.15.20//NONSGML v1.0//EN
CALSCALE:GREGORIAN
METHOD:PUBLISH
X-ORIGINAL-URL:https://gogeomatics.ca
X-WR-CALDESC:Events for GoGeomatics
REFRESH-INTERVAL;VALUE=DURATION:PT1H
X-Robots-Tag:noindex
X-PUBLISHED-TTL:PT1H
BEGIN:VTIMEZONE
TZID:America/Vancouver
BEGIN:DAYLIGHT
TZOFFSETFROM:-0800
TZOFFSETTO:-0700
TZNAME:PDT
DTSTART:20240310T100000
END:DAYLIGHT
BEGIN:STANDARD
TZOFFSETFROM:-0700
TZOFFSETTO:-0800
TZNAME:PST
DTSTART:20241103T090000
END:STANDARD
BEGIN:DAYLIGHT
TZOFFSETFROM:-0800
TZOFFSETTO:-0700
TZNAME:PDT
DTSTART:20250309T100000
END:DAYLIGHT
BEGIN:STANDARD
TZOFFSETFROM:-0700
TZOFFSETTO:-0800
TZNAME:PST
DTSTART:20251102T090000
END:STANDARD
BEGIN:DAYLIGHT
TZOFFSETFROM:-0800
TZOFFSETTO:-0700
TZNAME:PDT
DTSTART:20260308T100000
END:DAYLIGHT
BEGIN:STANDARD
TZOFFSETFROM:-0700
TZOFFSETTO:-0800
TZNAME:PST
DTSTART:20261101T090000
END:STANDARD
END:VTIMEZONE
BEGIN:VEVENT
DTSTART;VALUE=DATE:20250501
DTEND;VALUE=DATE:20250502
DTSTAMP:20260423T124935
CREATED:20250110T193643Z
LAST-MODIFIED:20250405T125450Z
UID:216065-1746057600-1746143999@gogeomatics.ca
SUMMARY:GIS and the Digital Transformation
DESCRIPTION:On May 1st 2025\, the GeoConnect Society will be hosting a one day conference titled: \nGIS and the Digital Transformation \n\nLocation: The Hilton Vancouver Metrotown. 6083 McKay Ave\, Burnaby\, BC V5H 2W\n\nCONFERENCE THEME \nThis year’s conference is focused on exploring how Geographic Information Systems (GIS) plays a pivotal role in driving digital transformation within an organization. \nAs industries adapt to an increasingly data-driven world\, GIS is at the forefront\, enabling organizations to integrate spatial intelligence into their workflows\, automate processes\, and make informed\, strategic decisions. Through presentations from industry peers\, this conference will showcase how GIS is reshaping operations\, enhancing efficiency\, and fostering innovation across diverse sectors. \nLearn how GIS empowers organizations to: \n\nTransition to smarter\, more dynamic workflows.\nLeverage location-based insights to drive strategic decisions.\nSeamlessly integrate geospatial data into enterprise systems.\nAccelerate digital initiatives with intuitive and automated solutions.\n\nThis event offers a unique opportunity to connect with fellow GIS professionals\, share practical insights\, and discover how GIS can be a cornerstone of digital transformation in any organization. Whether you’re leading change or looking to innovate\, this conference is your gateway to understanding GIS as a transformative force in the modern digital era.
URL:https://gogeomatics.ca/event/gis-and-the-digital-transformation/
LOCATION:The Hilton Vancouver Metrotown\, 6083 McKay Ave\, Burnaby\, BC\, V5H 2W\, Canada
END:VEVENT
END:VCALENDAR