BEGIN:VCALENDAR
VERSION:2.0
PRODID:-//GoGeomatics - ECPv6.15.20//NONSGML v1.0//EN
CALSCALE:GREGORIAN
METHOD:PUBLISH
X-WR-CALNAME:GoGeomatics
X-ORIGINAL-URL:https://gogeomatics.ca
X-WR-CALDESC:Events for GoGeomatics
REFRESH-INTERVAL;VALUE=DURATION:PT1H
X-Robots-Tag:noindex
X-PUBLISHED-TTL:PT1H
BEGIN:VTIMEZONE
TZID:America/Toronto
BEGIN:DAYLIGHT
TZOFFSETFROM:-0500
TZOFFSETTO:-0400
TZNAME:EDT
DTSTART:20250309T070000
END:DAYLIGHT
BEGIN:STANDARD
TZOFFSETFROM:-0400
TZOFFSETTO:-0500
TZNAME:EST
DTSTART:20251102T060000
END:STANDARD
BEGIN:DAYLIGHT
TZOFFSETFROM:-0500
TZOFFSETTO:-0400
TZNAME:EDT
DTSTART:20260308T070000
END:DAYLIGHT
BEGIN:STANDARD
TZOFFSETFROM:-0400
TZOFFSETTO:-0500
TZNAME:EST
DTSTART:20261101T060000
END:STANDARD
BEGIN:DAYLIGHT
TZOFFSETFROM:-0500
TZOFFSETTO:-0400
TZNAME:EDT
DTSTART:20270314T070000
END:DAYLIGHT
BEGIN:STANDARD
TZOFFSETFROM:-0400
TZOFFSETTO:-0500
TZNAME:EST
DTSTART:20271107T060000
END:STANDARD
END:VTIMEZONE
BEGIN:VEVENT
DTSTART;VALUE=DATE:20260224
DTEND;VALUE=DATE:20260225
DTSTAMP:20260420T052550
CREATED:20251125T154856Z
LAST-MODIFIED:20260105T160101Z
UID:243172-1771891200-1771977599@gogeomatics.ca
SUMMARY:Digital Leadership Day Federal
DESCRIPTION:Shaping The Leaders of Tomorrow’s Digital Government\nEvent OverviewJoin Public Sector Network’s Digital Leadership Day Federal for an inspiring day designed to equip senior public-sector leaders and innovators with the tools and insights needed to lead confidently in the digital era. This full-day program focuses on helping leaders navigate complexity\, embrace disruption\, and drive meaningful transformation. \nAs rapid digital change becomes the norm\, this academy provides a valuable forum to address today’s most urgent leadership challenges. You’ll gain practical strategies for guiding teams through uncertainty\, adopting emerging technologies like generative AI\, and promoting ethical\, effective governance. Discover how to future-proof your organization while keeping people\, process\, and performance at the forefront. \nThe event explores three key pillars of modern digital leadership: creating a people-first approach for a technology-driven future\, strengthening processes to reach digital excellence\, and anticipating technological shifts through forward-looking leadership. \nTailored for senior leaders at the director level and above\, this event offers actionable solutions\, peer perspectives\, and expert advice to support confident leadership in an ever-changing environment. Shape the future of your organization—and your leadership journey. Register here
URL:https://gogeomatics.ca/event/digital-leadership-day-federal/
LOCATION:Ottawa Conference and Event Centre\, Ontario\, Canada
CATEGORIES:Ottawa
END:VEVENT
END:VCALENDAR