BEGIN:VCALENDAR
VERSION:2.0
PRODID:-//GoGeomatics - ECPv6.15.20//NONSGML v1.0//EN
CALSCALE:GREGORIAN
METHOD:PUBLISH
X-WR-CALNAME:GoGeomatics
X-ORIGINAL-URL:https://gogeomatics.ca
X-WR-CALDESC:Events for GoGeomatics
REFRESH-INTERVAL;VALUE=DURATION:PT1H
X-Robots-Tag:noindex
X-PUBLISHED-TTL:PT1H
BEGIN:VTIMEZONE
TZID:America/Vancouver
BEGIN:DAYLIGHT
TZOFFSETFROM:-0800
TZOFFSETTO:-0700
TZNAME:PDT
DTSTART:20230312T100000
END:DAYLIGHT
BEGIN:STANDARD
TZOFFSETFROM:-0700
TZOFFSETTO:-0800
TZNAME:PST
DTSTART:20231105T090000
END:STANDARD
BEGIN:DAYLIGHT
TZOFFSETFROM:-0800
TZOFFSETTO:-0700
TZNAME:PDT
DTSTART:20240310T100000
END:DAYLIGHT
BEGIN:STANDARD
TZOFFSETFROM:-0700
TZOFFSETTO:-0800
TZNAME:PST
DTSTART:20241103T090000
END:STANDARD
BEGIN:DAYLIGHT
TZOFFSETFROM:-0800
TZOFFSETTO:-0700
TZNAME:PDT
DTSTART:20250309T100000
END:DAYLIGHT
BEGIN:STANDARD
TZOFFSETFROM:-0700
TZOFFSETTO:-0800
TZNAME:PST
DTSTART:20251102T090000
END:STANDARD
END:VTIMEZONE
BEGIN:VTIMEZONE
TZID:America/Toronto
BEGIN:DAYLIGHT
TZOFFSETFROM:-0500
TZOFFSETTO:-0400
TZNAME:EDT
DTSTART:20230312T070000
END:DAYLIGHT
BEGIN:STANDARD
TZOFFSETFROM:-0400
TZOFFSETTO:-0500
TZNAME:EST
DTSTART:20231105T060000
END:STANDARD
BEGIN:DAYLIGHT
TZOFFSETFROM:-0500
TZOFFSETTO:-0400
TZNAME:EDT
DTSTART:20240310T070000
END:DAYLIGHT
BEGIN:STANDARD
TZOFFSETFROM:-0400
TZOFFSETTO:-0500
TZNAME:EST
DTSTART:20241103T060000
END:STANDARD
BEGIN:DAYLIGHT
TZOFFSETFROM:-0500
TZOFFSETTO:-0400
TZNAME:EDT
DTSTART:20250309T070000
END:DAYLIGHT
BEGIN:STANDARD
TZOFFSETFROM:-0400
TZOFFSETTO:-0500
TZNAME:EST
DTSTART:20251102T060000
END:STANDARD
END:VTIMEZONE
BEGIN:VTIMEZONE
TZID:America/Edmonton
BEGIN:DAYLIGHT
TZOFFSETFROM:-0700
TZOFFSETTO:-0600
TZNAME:MDT
DTSTART:20230312T090000
END:DAYLIGHT
BEGIN:STANDARD
TZOFFSETFROM:-0600
TZOFFSETTO:-0700
TZNAME:MST
DTSTART:20231105T080000
END:STANDARD
BEGIN:DAYLIGHT
TZOFFSETFROM:-0700
TZOFFSETTO:-0600
TZNAME:MDT
DTSTART:20240310T090000
END:DAYLIGHT
BEGIN:STANDARD
TZOFFSETFROM:-0600
TZOFFSETTO:-0700
TZNAME:MST
DTSTART:20241103T080000
END:STANDARD
BEGIN:DAYLIGHT
TZOFFSETFROM:-0700
TZOFFSETTO:-0600
TZNAME:MDT
DTSTART:20250309T090000
END:DAYLIGHT
BEGIN:STANDARD
TZOFFSETFROM:-0600
TZOFFSETTO:-0700
TZNAME:MST
DTSTART:20251102T080000
END:STANDARD
END:VTIMEZONE
BEGIN:VEVENT
DTSTART;TZID=America/Vancouver:20241001T183000
DTEND;TZID=America/Vancouver:20241001T203000
DTSTAMP:20260425T073950
CREATED:20241001T181511Z
LAST-MODIFIED:20250405T130301Z
UID:214951-1727807400-1727814600@gogeomatics.ca
SUMMARY:Victoria GoGeomatics Meetup
DESCRIPTION:Hello Everyone! GoGeomatics is having our October Victoria GoGeomatics Meetup\, where we can network and talk all things Surveying\, GIS\, geomatics and geography! Let’s ring in the new year with some drinks and geo related discussion. \nThis event will take place at the Bent mast in one of the rooms upstairs. Come on up or ask the hostess for the GoGeomatics reservation. Come alone or with a friend. These events are free to attend. You will meet a mix of professionals.\, managers\, students and job seekers all the local Victoria community. \nIf you are interested in GIS\, geospatial\, surveying\, geomatics\, remote sensing\, data\, engineering\, BIM\, digital twins\, mobile mapping\, or geography in general this is the free networking group for you. \nYou will meet others who are interested in the awesomeness of GEO so if you like to talk about the tech and sector its a great evening over drinks. \nThe number of people allowed to attend is not a hard cap. If you want to come by and the total number of guests has already been hit it’s not a problem! \nHope to see you there! \nP.S We have started having presentations at these events\, so if you have any interest in presenting\, send me a message and we’ll try and work something out. \nP.P.S The event is free to attend\, however food and drinks are an additional cost to the guests.
URL:https://gogeomatics.ca/event/victoria-gogeomatics-meetup/
LOCATION:The Bent Mast\, 512 Simcoe St\, Victoria\, BC\, V8V 1L8\, Canada
CATEGORIES:Meetup,Victoria
END:VEVENT
BEGIN:VEVENT
DTSTART;TZID=America/Vancouver:20241016T183000
DTEND;TZID=America/Vancouver:20241016T203000
DTSTAMP:20260425T073950
CREATED:20241001T180926Z
LAST-MODIFIED:20250405T130259Z
UID:214946-1729103400-1729110600@gogeomatics.ca
SUMMARY:Vancouver GoGeomatics Canada Monthly Networking Social
DESCRIPTION:Welcome back! After our big Back to School event\, we’re back to our usual monthly events. Join us for another great evening of networking\, drinking and general friendship making. \nWhether this is your first event or your fiftieth please feel free to bring your friends and come on down. As always we’re meeting at Royal Canadian Legion Nº179 at 6:30pm\, we’ll be glad to see you there!
URL:https://gogeomatics.ca/event/vancouver-gogeomatics-canada-monthly-networking-social/
LOCATION:Royal Canadian Legion No. 179\, 2205 Commercial Drive (at 6th)\, Vancouver\, BC\, Canada
CATEGORIES:Meetup,Vancouver
END:VEVENT
BEGIN:VEVENT
DTSTART;TZID=America/Vancouver:20241024T173000
DTEND;TZID=America/Vancouver:20241024T193000
DTSTAMP:20260425T073950
CREATED:20241001T181150Z
LAST-MODIFIED:20250405T130258Z
UID:214948-1729791000-1729798200@gogeomatics.ca
SUMMARY:GoGeomatics Kelowna Meetup
DESCRIPTION:LiDAR Point Cloud Presentation & Social\n\n\nWe will begin with a presentation in Meeting Room 2 (upstairs) of the library by Dwayne Tannant. The presentation will cover the engineering use of open data LiDAR point clouds combined with drone photogrammetry-based point clouds\, with an added side discussion on the challenges of knowing what coordinate system (especially vertical) the data are using. More details to come. \nFrom here\, we will go to CRAFT Beer Market\, 258 Bernard Ave\, for a 6:45 reservation. \nGoGeomatics is a networking event to welcome students\, professionals\, and academics in the field of geomatics in a casual environment.\nCome out and have some drinks with other students\, peers and professionals. This group is open to everyone in any geomatics-related field–GIS\, surveying\, remote sensing\, photogrammetry\, CAD\, and more.
URL:https://gogeomatics.ca/event/kelowna-gogeomatics-canada-monthly-networking-social/
CATEGORIES:Kelowna,Meetup
END:VEVENT
BEGIN:VEVENT
DTSTART;TZID=America/Toronto:20241028T190000
DTEND;TZID=America/Toronto:20241028T210000
DTSTAMP:20260425T073950
CREATED:20241010T114954Z
LAST-MODIFIED:20250405T130256Z
UID:215084-1730142000-1730149200@gogeomatics.ca
SUMMARY:Toronto Geomatics Meetup
DESCRIPTION:Drop in and join GoGeomatics Toronto for our October event! \nThese monthly socials are a chance to network with other students and professionals in the geomatics field to chat GIS\, data\, remote sensing\, surveying\, and more in a casual atmosphere. \nFeel free to bring friends and colleagues along – we’re eager to welcome everyone back for a fantastic evening! This is a free event. \nPlease RSVP to let us know you’re attending.
URL:https://gogeomatics.ca/event/toronto-geomatics-meetup/
LOCATION:C’est What\, 67 Front St E\, Toronto\, Ontario\, M5E 1B5\, Canada
CATEGORIES:Meetup,Toronto
END:VEVENT
BEGIN:VEVENT
DTSTART;TZID=America/Edmonton:20241029T080000
DTEND;TZID=America/Edmonton:20241030T160000
DTSTAMP:20260425T073950
CREATED:20240731T130836Z
LAST-MODIFIED:20250405T130253Z
UID:213642-1730188800-1730304000@gogeomatics.ca
SUMMARY:GeoIgnite Western Canada Career Fair
DESCRIPTION:The GeoIgnite Western Canada Career Fair is an opportunity for organizations to recruit highly qualified personnel. The Career Fair is partnered with the University of Calgary and SAIT. Held alongside the GoGeomatics Expo\, this event encourages the next generation of professionals\, cultivates interest in our sector and makes geomatics accessible to the general public.
URL:https://gogeomatics.ca/event/geoignite-western-canada-career-fair-2/
END:VEVENT
END:VCALENDAR