BEGIN:VCALENDAR
VERSION:2.0
PRODID:-//GoGeomatics - ECPv6.15.20//NONSGML v1.0//EN
CALSCALE:GREGORIAN
METHOD:PUBLISH
X-WR-CALNAME:GoGeomatics
X-ORIGINAL-URL:https://gogeomatics.ca
X-WR-CALDESC:Events for GoGeomatics
REFRESH-INTERVAL;VALUE=DURATION:PT1H
X-Robots-Tag:noindex
X-PUBLISHED-TTL:PT1H
BEGIN:VTIMEZONE
TZID:America/Vancouver
BEGIN:DAYLIGHT
TZOFFSETFROM:-0800
TZOFFSETTO:-0700
TZNAME:PDT
DTSTART:20230312T100000
END:DAYLIGHT
BEGIN:STANDARD
TZOFFSETFROM:-0700
TZOFFSETTO:-0800
TZNAME:PST
DTSTART:20231105T090000
END:STANDARD
BEGIN:DAYLIGHT
TZOFFSETFROM:-0800
TZOFFSETTO:-0700
TZNAME:PDT
DTSTART:20240310T100000
END:DAYLIGHT
BEGIN:STANDARD
TZOFFSETFROM:-0700
TZOFFSETTO:-0800
TZNAME:PST
DTSTART:20241103T090000
END:STANDARD
BEGIN:DAYLIGHT
TZOFFSETFROM:-0800
TZOFFSETTO:-0700
TZNAME:PDT
DTSTART:20250309T100000
END:DAYLIGHT
BEGIN:STANDARD
TZOFFSETFROM:-0700
TZOFFSETTO:-0800
TZNAME:PST
DTSTART:20251102T090000
END:STANDARD
END:VTIMEZONE
BEGIN:VTIMEZONE
TZID:America/Edmonton
BEGIN:DAYLIGHT
TZOFFSETFROM:-0700
TZOFFSETTO:-0600
TZNAME:MDT
DTSTART:20230312T090000
END:DAYLIGHT
BEGIN:STANDARD
TZOFFSETFROM:-0600
TZOFFSETTO:-0700
TZNAME:MST
DTSTART:20231105T080000
END:STANDARD
BEGIN:DAYLIGHT
TZOFFSETFROM:-0700
TZOFFSETTO:-0600
TZNAME:MDT
DTSTART:20240310T090000
END:DAYLIGHT
BEGIN:STANDARD
TZOFFSETFROM:-0600
TZOFFSETTO:-0700
TZNAME:MST
DTSTART:20241103T080000
END:STANDARD
BEGIN:DAYLIGHT
TZOFFSETFROM:-0700
TZOFFSETTO:-0600
TZNAME:MDT
DTSTART:20250309T090000
END:DAYLIGHT
BEGIN:STANDARD
TZOFFSETFROM:-0600
TZOFFSETTO:-0700
TZNAME:MST
DTSTART:20251102T080000
END:STANDARD
END:VTIMEZONE
BEGIN:VEVENT
DTSTART;TZID=America/Vancouver:20241119T173000
DTEND;TZID=America/Vancouver:20241119T193000
DTSTAMP:20260424T225045
CREATED:20241028T131955Z
LAST-MODIFIED:20250405T130255Z
UID:215314-1732037400-1732044600@gogeomatics.ca
SUMMARY:Kelowna GoGeomatics Meetup
DESCRIPTION:We will begin with a presentation by Wes Sutherland called “Digital Outcrop Models – a GIS solution” in Meeting Room 2 (upstairs near the stairwell) of the Okanagan Regional Library\, 1380 Ellis St. \nSome bio information about Wes: \nWes Sutherland is a Sr. Geological Technologist working primarily in the Energy Resource sector for over 30 years in a wide variety of technical capacities\, supporting everything from startups to multi-national companies. \nWith a deep passion for 3D visualizations of simulated and real-world geological and engineering processes\, he’s utilized some innovative approaches to handling data gaps over the years. \nPlease join Wes as we explore a Digital Outcrop Model solution using a GIS. \nFrom here\, we will go to CRAFT Beer Market\, 258 Bernard Ave\, for a 6:45 reservation at Curious Cafe\, 1423 Ellis St. Reservation under Dianne. \nGoGeomatics is a networking event to welcome students\, professionals\, and academics in the field of geomatics in a casual environment.\nCome out and have some drinks with other students\, peers and professionals. This group is open to everyone in any geomatics-related field–GIS\, surveying\, remote sensing\, photogrammetry\, CAD\, and more.
URL:https://gogeomatics.ca/event/kelowna-gogeomatics-meetup/
LOCATION:Kelowna Downtown Library ORL Branch\, 1380 Ellis St\, Kelowna\, Canada
CATEGORIES:Kelowna,Meetup
END:VEVENT
BEGIN:VEVENT
DTSTART;VALUE=DATE:20241120
DTEND;VALUE=DATE:20241121
DTSTAMP:20260424T225045
CREATED:20240910T194153Z
LAST-MODIFIED:20250405T130245Z
UID:214455-1732060800-1732147199@gogeomatics.ca
SUMMARY:GIS Day - Health GIS: Spatial Thinking in Applied Research (STAR)
DESCRIPTION:We are excited to announce our upcoming 5th GIS Day event\, “Health GIS: Spatial Thinking in Applied Research (STAR)”\, supported by the O’Brien Institute of Public Health\, which will be held online on November 20th\, 2024. \nBuilding on the tremendous success of our pervious events\, which attracted many participants from all over the world\, we continue to embrace the virtual format to foster a diverse and inclusive community. By remaining online in 2024\, we aim to accommodate and encourage participation from a wider audience\, transcending geographical barriers and enabling a richer exchange of ideas and innovations in the field of Health GIS and various applied topics. Join us for a series of enlightening presentations and discussions that highlight the transformative power of GIS in understanding and addressing complex global challenges.
URL:https://gogeomatics.ca/event/gis-day-health-gis-spatial-thinking-in-applied-research-star/
END:VEVENT
BEGIN:VEVENT
DTSTART;TZID=America/Vancouver:20241120T183000
DTEND;TZID=America/Vancouver:20241120T203000
DTSTAMP:20260424T225045
CREATED:20241028T131659Z
LAST-MODIFIED:20250405T130244Z
UID:215312-1732127400-1732134600@gogeomatics.ca
SUMMARY:Victoria GoGeomatics Meetup
DESCRIPTION:Hello Everyone! for GIS day GoGeomatics is having our November Victoria GoGeomatics Meetup\, where we can network and talk all things Surveying\, GIS\, geomatics and geography! Let’s ring in the new year with some drinks and geo related discussion. \nThis event will take place at the Bent mast in one of the rooms upstairs. Come on up or ask the hostess for the GoGeomatics reservation. Come alone or with a friend. These events are free to attend. You will meet a mix of professionals.\, managers\, students and job seekers all the local Victoria community. \nIf you are interested in GIS\, geospatial\, surveying\, geomatics\, remote sensing\, data\, engineering\, BIM\, digital twins\, mobile mapping\, or geography in general this is the free networking group for you. \nYou will meet others who are interested in the awesomeness of GEO so if you like to talk about the tech and sector its a great evening over drinks. \nThe number of people allowed to attend is not a hard cap. If you want to come by and the total number of guests has already been hit it’s not a problem! \nHope to see you there! \nP.S We have started having presentations at these events\, so if you have any interest in presenting\, send me a message and we’ll try and work something out. \nP.P.S The event is free to attend\, however food and drinks are an additional cost to the guests.
URL:https://gogeomatics.ca/event/victoria-gogeomatics-meetup-2/
LOCATION:The Bent Mast\, 512 Simcoe St\, Victoria\, BC\, V8V 1L8\, Canada
CATEGORIES:Meetup,Victoria
END:VEVENT
BEGIN:VEVENT
DTSTART;TZID=America/Vancouver:20241120T183000
DTEND;TZID=America/Vancouver:20241120T203000
DTSTAMP:20260424T225045
CREATED:20241028T132406Z
LAST-MODIFIED:20250405T130243Z
UID:215316-1732127400-1732134600@gogeomatics.ca
SUMMARY:Vancouver GoGeomatics Meetup
DESCRIPTION:Welcome back! November will be here before you know it\, so don’t forget to RSVP to this month’s meetup. Join us for another great evening of networking\, drinking and general friendship making. \nWhether this is your first event or your fiftieth please feel free to bring your friends and come on down. As always we’re meeting at Royal Canadian Legion Nº179 at 6:30pm\, we’ll be glad to see you there!
URL:https://gogeomatics.ca/event/vancouver-gogeomatics-meetup-4/
CATEGORIES:Meetup,Vancouver
END:VEVENT
END:VCALENDAR