BEGIN:VCALENDAR
VERSION:2.0
PRODID:-//GoGeomatics - ECPv6.15.20//NONSGML v1.0//EN
CALSCALE:GREGORIAN
METHOD:PUBLISH
X-ORIGINAL-URL:https://gogeomatics.ca
X-WR-CALDESC:Events for GoGeomatics
REFRESH-INTERVAL;VALUE=DURATION:PT1H
X-Robots-Tag:noindex
X-PUBLISHED-TTL:PT1H
BEGIN:VTIMEZONE
TZID:America/Vancouver
BEGIN:DAYLIGHT
TZOFFSETFROM:-0800
TZOFFSETTO:-0700
TZNAME:PDT
DTSTART:20230312T100000
END:DAYLIGHT
BEGIN:STANDARD
TZOFFSETFROM:-0700
TZOFFSETTO:-0800
TZNAME:PST
DTSTART:20231105T090000
END:STANDARD
BEGIN:DAYLIGHT
TZOFFSETFROM:-0800
TZOFFSETTO:-0700
TZNAME:PDT
DTSTART:20240310T100000
END:DAYLIGHT
BEGIN:STANDARD
TZOFFSETFROM:-0700
TZOFFSETTO:-0800
TZNAME:PST
DTSTART:20241103T090000
END:STANDARD
BEGIN:DAYLIGHT
TZOFFSETFROM:-0800
TZOFFSETTO:-0700
TZNAME:PDT
DTSTART:20250309T100000
END:DAYLIGHT
BEGIN:STANDARD
TZOFFSETFROM:-0700
TZOFFSETTO:-0800
TZNAME:PST
DTSTART:20251102T090000
END:STANDARD
END:VTIMEZONE
BEGIN:VEVENT
DTSTART;TZID=America/Vancouver:20241210T173000
DTEND;TZID=America/Vancouver:20241210T193000
DTSTAMP:20260423T015005
CREATED:20241125T161637Z
LAST-MODIFIED:20250405T130245Z
UID:215632-1733851800-1733859000@gogeomatics.ca
SUMMARY:Kelowna GoGeomatics Meetup
DESCRIPTION:We will begin with an informal demo by Dianne Graybeard of using TopoDOT software to extract CAD features from LiDAR data. \nBio: Dianne Graybeard (she/her)\, GISP\, is a GIS Analyst with a variety of GIS and CAD experience in private and public sectors\, including mineral exploration\, environmental\, oil and gas\, wind energy\, engineering\, land surveying\, and consulting. Originally a geologist\, she strives to apply her well-rounded experience to solving a variety of problems. \nFrom here\, we have a 6:45 reservation at King Taps\, 1352 Water St. Reservation name is under Dianne. \nGoGeomatics is a networking event to welcome students\, professionals\, and academics in the field of geomatics in a casual environment.\nCome out and have some drinks with other students\, peers and professionals. This group is open to everyone in any geomatics-related field–GIS\, surveying\, remote sensing\, photogrammetry\, CAD\, and more.
URL:https://gogeomatics.ca/event/kelowna-gogeomatics-meetup-2/
LOCATION:Kelowna Downtown Library ORL Branch\, 1380 Ellis St\, Kelowna\, Canada
CATEGORIES:Kelowna,Meetup
END:VEVENT
BEGIN:VEVENT
DTSTART;TZID=America/Vancouver:20241211T183000
DTEND;TZID=America/Vancouver:20241211T203000
DTSTAMP:20260423T015005
CREATED:20241125T161947Z
LAST-MODIFIED:20250405T130246Z
UID:215634-1733941800-1733949000@gogeomatics.ca
SUMMARY:Vancouver GoGeomatics Meetup
DESCRIPTION:Welcome back! The holidays are here\, so stop by for one last event in 2024. Join us for another great evening of networking\, drinking and general friendship making. \nThis is our “Ugly Sweater” night\, bring your worst outfit and feel free to bring some holiday treats if you’re feeling generous. \nWhether this is your first event or your fiftieth please feel free to bring your friends and come on down. As always we’re meeting at Royal Canadian Legion Nº179 at 6:30pm\, we’ll be glad to see you there!
URL:https://gogeomatics.ca/event/vancouver-gogeomatics-meetup-5/
CATEGORIES:Meetup,Vancouver
END:VEVENT
END:VCALENDAR