BEGIN:VCALENDAR
VERSION:2.0
PRODID:-//GoGeomatics - ECPv6.15.20//NONSGML v1.0//EN
CALSCALE:GREGORIAN
METHOD:PUBLISH
X-ORIGINAL-URL:https://gogeomatics.ca
X-WR-CALDESC:Events for GoGeomatics
REFRESH-INTERVAL;VALUE=DURATION:PT1H
X-Robots-Tag:noindex
X-PUBLISHED-TTL:PT1H
BEGIN:VTIMEZONE
TZID:America/Toronto
BEGIN:DAYLIGHT
TZOFFSETFROM:-0500
TZOFFSETTO:-0400
TZNAME:EDT
DTSTART:20240310T070000
END:DAYLIGHT
BEGIN:STANDARD
TZOFFSETFROM:-0400
TZOFFSETTO:-0500
TZNAME:EST
DTSTART:20241103T060000
END:STANDARD
BEGIN:DAYLIGHT
TZOFFSETFROM:-0500
TZOFFSETTO:-0400
TZNAME:EDT
DTSTART:20250309T070000
END:DAYLIGHT
BEGIN:STANDARD
TZOFFSETFROM:-0400
TZOFFSETTO:-0500
TZNAME:EST
DTSTART:20251102T060000
END:STANDARD
BEGIN:DAYLIGHT
TZOFFSETFROM:-0500
TZOFFSETTO:-0400
TZNAME:EDT
DTSTART:20260308T070000
END:DAYLIGHT
BEGIN:STANDARD
TZOFFSETFROM:-0400
TZOFFSETTO:-0500
TZNAME:EST
DTSTART:20261101T060000
END:STANDARD
END:VTIMEZONE
BEGIN:VTIMEZONE
TZID:America/Vancouver
BEGIN:DAYLIGHT
TZOFFSETFROM:-0800
TZOFFSETTO:-0700
TZNAME:PDT
DTSTART:20240310T100000
END:DAYLIGHT
BEGIN:STANDARD
TZOFFSETFROM:-0700
TZOFFSETTO:-0800
TZNAME:PST
DTSTART:20241103T090000
END:STANDARD
BEGIN:DAYLIGHT
TZOFFSETFROM:-0800
TZOFFSETTO:-0700
TZNAME:PDT
DTSTART:20250309T100000
END:DAYLIGHT
BEGIN:STANDARD
TZOFFSETFROM:-0700
TZOFFSETTO:-0800
TZNAME:PST
DTSTART:20251102T090000
END:STANDARD
BEGIN:DAYLIGHT
TZOFFSETFROM:-0800
TZOFFSETTO:-0700
TZNAME:PDT
DTSTART:20260308T100000
END:DAYLIGHT
BEGIN:STANDARD
TZOFFSETFROM:-0700
TZOFFSETTO:-0800
TZNAME:PST
DTSTART:20261101T090000
END:STANDARD
END:VTIMEZONE
BEGIN:VEVENT
DTSTART;TZID=America/Toronto:20250304T190000
DTEND;TZID=America/Toronto:20250304T210000
DTSTAMP:20260420T163650
CREATED:20250218T124402Z
LAST-MODIFIED:20250405T125725Z
UID:216908-1741114800-1741122000@gogeomatics.ca
SUMMARY:Toronto GoGeomatics Meetup
DESCRIPTION:These monthly socials are a chance to network with other students and professionals in the geomatics field to chat GIS\, data\, remote sensing\, surveying and more in a casual atmosphere. \nFeel free to bring friends and colleagues along – we’re eager to welcome everyone back for a fantastic evening! This is a free event. \nPlease RSVP to let us know you’re attending.
URL:https://gogeomatics.ca/event/toronto-gogeomatics-meetup-3/
LOCATION:C’est What\, 67 Front St E\, Toronto\, Ontario\, M5E 1B5\, Canada
CATEGORIES:Toronto
END:VEVENT
BEGIN:VEVENT
DTSTART;TZID=America/Toronto:20250311T180000
DTEND;TZID=America/Toronto:20250311T210000
DTSTAMP:20260420T163650
CREATED:20250224T160304Z
LAST-MODIFIED:20250405T125721Z
UID:217045-1741716000-1741726800@gogeomatics.ca
SUMMARY:GoGematics Meetup Ottawa - BIM & GIS Night
DESCRIPTION:oin us for the GoGeomatics Ottawa Meetup on March 11th at 6:00 PM at Beyond the Pale ByWard Taproom! This is a free event with a cash bar\, and everyone is welcome to attend. \nWe’re also excited to introduce our two new group leaders who will help keep the Ottawa GoGeomatics community thriving! \n#### Meet Our New Ottawa Group Leaders! ? \n? Farzaneh Farshad – A Business Analyst at AedoAI Inc.\, Farzaneh has a background in civil engineering\, GIS\, and business analytics. With experience at the City of Ottawa and AedoAI\, she specializes in data analysis\, project coordination\, and geospatial solutions. She’s passionate about problem-solving and collaboration and will be a fantastic addition to our leadership team. \n? Jonathan Bailey – A leader in digital transformation\, GIS\, BIM\, and geospatial technology\, Jonathan’s career spans software architecture\, geospatial intelligence\, and innovative system design. With experience at Esri\, Thales Canada\, the Department of National Defence\, and leading consulting firms\, he brings valuable expertise and mentorship to the Ottawa group. \n? A huge thank you to Farzaneh and Jonathan for stepping up to lead the community! Being a group leader and volunteer is an amazing way to give back\, create opportunities\, and build connections.\nThis is a great chance to meet our new group leaders\, connect with fellow professionals\, and enjoy great conversations in a relaxed and welcoming setting. \n? Location: Beyond the Pale ByWard Taproom\n? Date & Time: March 11th\, 6:00 PM\n? Cost: Free (Cash Bar)\n? Who’s Invited? Everyone! Bring a friend or a colleague.\nWe look forward to seeing you there! Let us know if you’re coming by RSVPing here. ?
URL:https://gogeomatics.ca/event/gogematics-meetup-ottawa-bim-gis-night/
LOCATION:Beyond the Pale Byward Taproom\, 21 Georges St\, Ottawa\, Ontario\, Canada
CATEGORIES:Ottawa
END:VEVENT
BEGIN:VEVENT
DTSTART;TZID=America/Vancouver:20250325T173000
DTEND;TZID=America/Vancouver:20250325T193000
DTSTAMP:20260420T163650
CREATED:20250313T143532Z
LAST-MODIFIED:20250405T125514Z
UID:217336-1742923800-1742931000@gogeomatics.ca
SUMMARY:Kelowna GoGeomatics Meetup
DESCRIPTION:We will be having a presentation and open discussion led by Mark Laudon of the District of Lake Country called “The Who\, What\, Why and How of Open Street Map” in Meeting Room 3 of the library. \nGeneral topic outline: \n\nWhat is OpenStreetMap?\nWho uses OpenStreetMap?\nWhy OpenStreetMap?\nHow can I contribute to OpenStreetMap?\n\nFrom here\, we have a 6:45 reservation at BNA Brewing\, 1250 Ellis St. Reservation name is under Dianne or GoGeomatics. If you can’t make the library part\, you’re still welcome to join for the pub social. \nGoGeomatics is a networking event to welcome students\, professionals\, and academics in the field of geomatics in a casual environment.\nCome out and have some drinks with other students\, peers and professionals. This group is open to everyone in any geomatics-related field–GIS\, surveying\, remote sensing\, photogrammetry\, CAD\, and more.
URL:https://gogeomatics.ca/event/kelowna-gogeomatics-meetup-3/
LOCATION:Kelowna Downtown Library ORL Branch\, 1380 Ellis St\, Kelowna\, Canada
CATEGORIES:Kelowna
END:VEVENT
BEGIN:VEVENT
DTSTART;TZID=America/Vancouver:20250325T180000
DTEND;TZID=America/Vancouver:20250325T200000
DTSTAMP:20260420T163650
CREATED:20250312T112631Z
LAST-MODIFIED:20250405T125515Z
UID:217311-1742925600-1742932800@gogeomatics.ca
SUMMARY:Victoria GoGeomatics Meetup
DESCRIPTION:Hi everyone! GoGeomatics is having our March Meetup\, where we can network and talk all things Surveying\, GIS\, geomatics and geography! \nThis event will take place at the Swan’s pub. Come by and ask the hostess for the GoGeomatics reservation (or Steve). Come alone or with a friend. These events are free to attend. You will meet a mix of professionals\, managers\, students and job seekers in the local Victoria community. \nIf you are interested in GIS\, surveying\, geomatics\, remote sensing\, data engineering\, BIM\, digital twins\, mobile mapping\, or geography in general this is the free networking group for you! \nThe number of people allowed to attend is not a hard cap. If you want to come by and the total number of guests has already been hit it’s not a problem! \nHope to see you there! \nP.S We have started having presentations at these events\, so if you have any interest in presenting\, send me a message and we’ll try and work something out. \nP.P.S The event is free to attend\, however food and drinks are an additional cost to the guests.
URL:https://gogeomatics.ca/event/victoria-gogeomatics-meetup-3/
LOCATION:The Bent Mast\, 512 Simcoe St\, Victoria\, BC\, V8V 1L8\, Canada
CATEGORIES:Meetup,Victoria
END:VEVENT
END:VCALENDAR