BEGIN:VCALENDAR
VERSION:2.0
PRODID:-//GoGeomatics - ECPv6.15.20//NONSGML v1.0//EN
CALSCALE:GREGORIAN
METHOD:PUBLISH
X-WR-CALNAME:GoGeomatics
X-ORIGINAL-URL:https://gogeomatics.ca
X-WR-CALDESC:Events for GoGeomatics
REFRESH-INTERVAL;VALUE=DURATION:PT1H
X-Robots-Tag:noindex
X-PUBLISHED-TTL:PT1H
BEGIN:VTIMEZONE
TZID:America/Edmonton
BEGIN:DAYLIGHT
TZOFFSETFROM:-0700
TZOFFSETTO:-0600
TZNAME:MDT
DTSTART:20230312T090000
END:DAYLIGHT
BEGIN:STANDARD
TZOFFSETFROM:-0600
TZOFFSETTO:-0700
TZNAME:MST
DTSTART:20231105T080000
END:STANDARD
BEGIN:DAYLIGHT
TZOFFSETFROM:-0700
TZOFFSETTO:-0600
TZNAME:MDT
DTSTART:20240310T090000
END:DAYLIGHT
BEGIN:STANDARD
TZOFFSETFROM:-0600
TZOFFSETTO:-0700
TZNAME:MST
DTSTART:20241103T080000
END:STANDARD
BEGIN:DAYLIGHT
TZOFFSETFROM:-0700
TZOFFSETTO:-0600
TZNAME:MDT
DTSTART:20250309T090000
END:DAYLIGHT
BEGIN:STANDARD
TZOFFSETFROM:-0600
TZOFFSETTO:-0700
TZNAME:MST
DTSTART:20251102T080000
END:STANDARD
END:VTIMEZONE
BEGIN:VEVENT
DTSTART;TZID=America/Edmonton:20241029T080000
DTEND;TZID=America/Edmonton:20241030T160000
DTSTAMP:20260424T085306
CREATED:20240731T130836Z
LAST-MODIFIED:20250405T130253Z
UID:213642-1730188800-1730304000@gogeomatics.ca
SUMMARY:GeoIgnite Western Canada Career Fair
DESCRIPTION:The GeoIgnite Western Canada Career Fair is an opportunity for organizations to recruit highly qualified personnel. The Career Fair is partnered with the University of Calgary and SAIT. Held alongside the GoGeomatics Expo\, this event encourages the next generation of professionals\, cultivates interest in our sector and makes geomatics accessible to the general public.
URL:https://gogeomatics.ca/event/geoignite-western-canada-career-fair-2/
END:VEVENT
END:VCALENDAR