BEGIN:VCALENDAR
VERSION:2.0
PRODID:-//GoGeomatics - ECPv6.15.20//NONSGML v1.0//EN
CALSCALE:GREGORIAN
METHOD:PUBLISH
X-WR-CALNAME:GoGeomatics
X-ORIGINAL-URL:https://gogeomatics.ca
X-WR-CALDESC:Events for GoGeomatics
REFRESH-INTERVAL;VALUE=DURATION:PT1H
X-Robots-Tag:noindex
X-PUBLISHED-TTL:PT1H
BEGIN:VTIMEZONE
TZID:America/Toronto
BEGIN:DAYLIGHT
TZOFFSETFROM:-0500
TZOFFSETTO:-0400
TZNAME:EDT
DTSTART:20240310T070000
END:DAYLIGHT
BEGIN:STANDARD
TZOFFSETFROM:-0400
TZOFFSETTO:-0500
TZNAME:EST
DTSTART:20241103T060000
END:STANDARD
BEGIN:DAYLIGHT
TZOFFSETFROM:-0500
TZOFFSETTO:-0400
TZNAME:EDT
DTSTART:20250309T070000
END:DAYLIGHT
BEGIN:STANDARD
TZOFFSETFROM:-0400
TZOFFSETTO:-0500
TZNAME:EST
DTSTART:20251102T060000
END:STANDARD
BEGIN:DAYLIGHT
TZOFFSETFROM:-0500
TZOFFSETTO:-0400
TZNAME:EDT
DTSTART:20260308T070000
END:DAYLIGHT
BEGIN:STANDARD
TZOFFSETFROM:-0400
TZOFFSETTO:-0500
TZNAME:EST
DTSTART:20261101T060000
END:STANDARD
END:VTIMEZONE
BEGIN:VEVENT
DTSTART;TZID=America/Toronto:20250429T080000
DTEND;TZID=America/Toronto:20250429T170000
DTSTAMP:20260425T105018
CREATED:20250317T170603Z
LAST-MODIFIED:20250407T112527Z
UID:217429-1745913600-1745946000@gogeomatics.ca
SUMMARY:BeSpatial'25 BeInspired
DESCRIPTION:The BeSpatial annual event is for the geospatial and information community. The BeInspired event offers program sessions\, keynote speakers\, networking opportunities\, and industry updates in an expo showcase. The event attracts attendees from a diverse cross-section of public and private disciplines: Geospatial (GIS) professionals and Information service (IT/IS) managers\, engineers\, surveyors\, consultants\, analysts\, technicians\, technologists\, specialists\, senior managers\, end data users\, professors and students from Ontario and beyond!\n\n\n\nApril 29\, 2025 8:00 AM – 5:00 PM (EDT) \nLocation: Holiday Inn Burlington Hotel & Conference Centre \n\n\nWho Should Attend?\nThe intended audience for this 1 day event includes public and private sector with participants from the federal\, provincial\, regional and municipal levels\, private industry\, consulting\, IT leaders\, GIS professionals and practitioners\, end data users\, managers\, senior staff\, CAOs\, and First Nations. Other key stakeholders include community activists and visionaries from the private and not-for-profit sectors.Register here!
URL:https://gogeomatics.ca/event/bespatial25-beinspired/
LOCATION:Holiday Inn Burlington Hotel & Conference Centre\, 3063 S Service Rd Building 2\, Burlington\, ON\, Burlington\, Ontario\, L7N 3E9\, Canada
END:VEVENT
END:VCALENDAR