BEGIN:VCALENDAR
VERSION:2.0
PRODID:-//GoGeomatics - ECPv6.15.20//NONSGML v1.0//EN
CALSCALE:GREGORIAN
METHOD:PUBLISH
X-WR-CALNAME:GoGeomatics
X-ORIGINAL-URL:https://gogeomatics.ca
X-WR-CALDESC:Events for GoGeomatics
REFRESH-INTERVAL;VALUE=DURATION:PT1H
X-Robots-Tag:noindex
X-PUBLISHED-TTL:PT1H
BEGIN:VTIMEZONE
TZID:America/Toronto
BEGIN:DAYLIGHT
TZOFFSETFROM:-0500
TZOFFSETTO:-0400
TZNAME:EDT
DTSTART:20230312T070000
END:DAYLIGHT
BEGIN:STANDARD
TZOFFSETFROM:-0400
TZOFFSETTO:-0500
TZNAME:EST
DTSTART:20231105T060000
END:STANDARD
BEGIN:DAYLIGHT
TZOFFSETFROM:-0500
TZOFFSETTO:-0400
TZNAME:EDT
DTSTART:20240310T070000
END:DAYLIGHT
BEGIN:STANDARD
TZOFFSETFROM:-0400
TZOFFSETTO:-0500
TZNAME:EST
DTSTART:20241103T060000
END:STANDARD
BEGIN:DAYLIGHT
TZOFFSETFROM:-0500
TZOFFSETTO:-0400
TZNAME:EDT
DTSTART:20250309T070000
END:DAYLIGHT
BEGIN:STANDARD
TZOFFSETFROM:-0400
TZOFFSETTO:-0500
TZNAME:EST
DTSTART:20251102T060000
END:STANDARD
END:VTIMEZONE
BEGIN:VEVENT
DTSTART;TZID=America/Toronto:20240727T070000
DTEND;TZID=America/Toronto:20240731T190000
DTSTAMP:20260425T213415
CREATED:20240319T184015Z
LAST-MODIFIED:20250405T130313Z
UID:209027-1722063600-1722452400@gogeomatics.ca
SUMMARY:UESI Pipelines 2024 Conference
DESCRIPTION:The Pipelines 2024 Conference is part of the new ASCE Utility Engineering & Surveying Institute (UESI). The conference will continue to provide a forum for pipeline engineers and practitioners from all around the world to share their experiences in meeting the challenges of today’s pipeline infrastructure. This premier industry event has become the conference of choice for utility and pipeline owners\, design and consulting engineers\, contractors\, manufacturers\, suppliers\, students\, educators\, researchers\, and pipeline professionals. The conference will also include surveying as it relates to pipeline and utility projects. \n 
URL:https://gogeomatics.ca/event/uesi-pipelines-2024-conference/
LOCATION:Calgary TELUS Convention Centre\, 120 9th Ave SE\, Calgary\, Alberta\, T2G 0P3\, Canada
ATTACH;FMTTYPE=image/png:https://gogeomatics.ca/wp-content/uploads/Pipelines-Facebook-1200x620-1-2.png
END:VEVENT
END:VCALENDAR