BEGIN:VCALENDAR
VERSION:2.0
PRODID:-//GoGeomatics - ECPv6.15.20//NONSGML v1.0//EN
CALSCALE:GREGORIAN
METHOD:PUBLISH
X-ORIGINAL-URL:https://gogeomatics.ca
X-WR-CALDESC:Events for GoGeomatics
REFRESH-INTERVAL;VALUE=DURATION:PT1H
X-Robots-Tag:noindex
X-PUBLISHED-TTL:PT1H
BEGIN:VTIMEZONE
TZID:America/Toronto
BEGIN:DAYLIGHT
TZOFFSETFROM:-0500
TZOFFSETTO:-0400
TZNAME:EDT
DTSTART:20240310T070000
END:DAYLIGHT
BEGIN:STANDARD
TZOFFSETFROM:-0400
TZOFFSETTO:-0500
TZNAME:EST
DTSTART:20241103T060000
END:STANDARD
BEGIN:DAYLIGHT
TZOFFSETFROM:-0500
TZOFFSETTO:-0400
TZNAME:EDT
DTSTART:20250309T070000
END:DAYLIGHT
BEGIN:STANDARD
TZOFFSETFROM:-0400
TZOFFSETTO:-0500
TZNAME:EST
DTSTART:20251102T060000
END:STANDARD
BEGIN:DAYLIGHT
TZOFFSETFROM:-0500
TZOFFSETTO:-0400
TZNAME:EDT
DTSTART:20260308T070000
END:DAYLIGHT
BEGIN:STANDARD
TZOFFSETFROM:-0400
TZOFFSETTO:-0500
TZNAME:EST
DTSTART:20261101T060000
END:STANDARD
END:VTIMEZONE
BEGIN:VEVENT
DTSTART;TZID=America/Toronto:20250521T183000
DTEND;TZID=America/Toronto:20250521T223000
DTSTAMP:20260425T112258
CREATED:20250422T121946Z
LAST-MODIFIED:20250430T122009Z
UID:236439-1747852200-1747866600@gogeomatics.ca
SUMMARY:Vancouver GoGeomatics Meetup
DESCRIPTION:It’s been a fantastic 24/25 season but the last meetup for GoGeomatics before we break for the summer is here! Get your RSVP in and we’ll see you there! \nWhether this is your first event or your fiftieth please feel free to bring your friends and come on down. As always we’re meeting at Royal Canadian Legion Nº179 at 6:30pm\, we’ll be glad to see you there!
URL:https://gogeomatics.ca/event/vancouver-gogeomatics-meetup-10/
LOCATION:Royal Canadian Legion No. 179\, 2205 Commercial Drive (at 6th)\, Vancouver\, BC\, Canada
END:VEVENT
END:VCALENDAR