BEGIN:VCALENDAR
VERSION:2.0
PRODID:-//GoGeomatics - ECPv6.15.20//NONSGML v1.0//EN
CALSCALE:GREGORIAN
METHOD:PUBLISH
X-ORIGINAL-URL:https://gogeomatics.ca
X-WR-CALDESC:Events for GoGeomatics
REFRESH-INTERVAL;VALUE=DURATION:PT1H
X-Robots-Tag:noindex
X-PUBLISHED-TTL:PT1H
BEGIN:VTIMEZONE
TZID:America/Vancouver
BEGIN:DAYLIGHT
TZOFFSETFROM:-0800
TZOFFSETTO:-0700
TZNAME:PDT
DTSTART:20240310T100000
END:DAYLIGHT
BEGIN:STANDARD
TZOFFSETFROM:-0700
TZOFFSETTO:-0800
TZNAME:PST
DTSTART:20241103T090000
END:STANDARD
BEGIN:DAYLIGHT
TZOFFSETFROM:-0800
TZOFFSETTO:-0700
TZNAME:PDT
DTSTART:20250309T100000
END:DAYLIGHT
BEGIN:STANDARD
TZOFFSETFROM:-0700
TZOFFSETTO:-0800
TZNAME:PST
DTSTART:20251102T090000
END:STANDARD
BEGIN:DAYLIGHT
TZOFFSETFROM:-0800
TZOFFSETTO:-0700
TZNAME:PDT
DTSTART:20260308T100000
END:DAYLIGHT
BEGIN:STANDARD
TZOFFSETFROM:-0700
TZOFFSETTO:-0800
TZNAME:PST
DTSTART:20261101T090000
END:STANDARD
END:VTIMEZONE
BEGIN:VEVENT
DTSTART;TZID=America/Vancouver:20250902T080000
DTEND;TZID=America/Vancouver:20250904T170000
DTSTAMP:20260419T152227
CREATED:20241101T154837Z
LAST-MODIFIED:20250405T125428Z
UID:215419-1756800000-1757005200@gogeomatics.ca
SUMMARY:Commercial UAV Expo
DESCRIPTION:This event defines and showcases the global commercial drone industry\, with a tie-in into the world of advanced air mobility.  It draws the power buyers and global influencers and sets the pace for the industry.  3\,500+ delegates from 6 continents will attend in 2025. www.expouav.com
URL:https://gogeomatics.ca/event/commercial-uav-expo-2/
LOCATION:Las Vegas\, Nevada
END:VEVENT
END:VCALENDAR