BEGIN:VCALENDAR
VERSION:2.0
PRODID:-//GoGeomatics - ECPv6.15.20//NONSGML v1.0//EN
CALSCALE:GREGORIAN
METHOD:PUBLISH
X-WR-CALNAME:GoGeomatics
X-ORIGINAL-URL:https://gogeomatics.ca
X-WR-CALDESC:Events for GoGeomatics
REFRESH-INTERVAL;VALUE=DURATION:PT1H
X-Robots-Tag:noindex
X-PUBLISHED-TTL:PT1H
BEGIN:VTIMEZONE
TZID:America/Toronto
BEGIN:DAYLIGHT
TZOFFSETFROM:-0500
TZOFFSETTO:-0400
TZNAME:EDT
DTSTART:20240310T070000
END:DAYLIGHT
BEGIN:STANDARD
TZOFFSETFROM:-0400
TZOFFSETTO:-0500
TZNAME:EST
DTSTART:20241103T060000
END:STANDARD
BEGIN:DAYLIGHT
TZOFFSETFROM:-0500
TZOFFSETTO:-0400
TZNAME:EDT
DTSTART:20250309T070000
END:DAYLIGHT
BEGIN:STANDARD
TZOFFSETFROM:-0400
TZOFFSETTO:-0500
TZNAME:EST
DTSTART:20251102T060000
END:STANDARD
BEGIN:DAYLIGHT
TZOFFSETFROM:-0500
TZOFFSETTO:-0400
TZNAME:EDT
DTSTART:20260308T070000
END:DAYLIGHT
BEGIN:STANDARD
TZOFFSETFROM:-0400
TZOFFSETTO:-0500
TZNAME:EST
DTSTART:20261101T060000
END:STANDARD
END:VTIMEZONE
BEGIN:VEVENT
DTSTART;TZID=America/Toronto:20250816T080000
DTEND;TZID=America/Toronto:20250822T170000
DTSTAMP:20260425T145127
CREATED:20250212T192908Z
LAST-MODIFIED:20250405T125429Z
UID:216742-1755331200-1755882000@gogeomatics.ca
SUMMARY:32nd International Cartographic Conference (ICC 2025) - Mapping the Future: Innovation\, Inclusion\, and Sustainability
DESCRIPTION:The 32nd International Cartographic Conference (ICC 2025) will be held in Vancouver\, Canada\, marking the third time Canada hosts the event. The conference will focus on the role of maps and GIScience in today’s world\, reflecting on the impact of online mapping services since their widespread adoption 20 years ago. \nAttendees will include professionals from various areas of cartography\, from those using traditional paper maps to those working with modern digital tools. The event will foster collaboration\, innovation\, and discussions about the future of cartography and GIScience. \nVancouver\, known for its mix of urban life and natural beauty\, offers the perfect setting for this important conference. \nFor more details\, visit https://icc2025.com
URL:https://gogeomatics.ca/event/mapping-the-future-innovation-inclusion-and-sustainability/
LOCATION:Vancouver Convention Centre\, East Building 999 Canada Place\, Vancouver\, British Columbia\, Canada
END:VEVENT
END:VCALENDAR